View In:
ArcGIS JavaScript
ArcGIS Online Map Viewer
ArcGIS Earth
Service Description: elevation/Slope_Reclassed_2011_4Categories_2m
Name: elevation/Slope_Reclassed_2011_4Categories_2m
Description:
Single Fused Map Cache: false
Extent:
XMin: 1847200.0
YMin: 5676000.0
XMax: 2058400.0
YMax: 5860156.0
Spatial Reference: 2193
(2193)
LatestVCSWkid(0)
Initial Extent:
XMin: 1847200.0
YMin: 5676000.0
XMax: 2058400.0
YMax: 5860156.0
Spatial Reference: 2193
(2193)
LatestVCSWkid(0)
Full Extent:
XMin: 1847200.0
YMin: 5676000.0
XMax: 2058400.0
YMax: 5860156.0
Spatial Reference: 2193
(2193)
LatestVCSWkid(0)
Pixel Size X: 2.0
Pixel Size Y: 2.0
Band Count: 1
Pixel Type: S8
RasterFunction Infos: {"rasterFunctionInfos": [{
"name": "None",
"description": "",
"help": ""
}]}
Mensuration Capabilities: Basic
Inspection Capabilities:
Has Histograms: true
Has Colormap: false
Has Multi Dimensions : false
Rendering Rule:
Min Scale: 0
Max Scale: 0
Copyright Text:
Service Data Type: esriImageServiceDataTypeGeneric
Min Values: 7
Max Values: 89
Mean Values: 43.39113208206405
Standard Deviation Values: 37.40247641666352
Object ID Field:
Fields:
None
Default Mosaic Method: Center
Allowed Mosaic Methods:
SortField:
SortValue: null
Mosaic Operator: First
Default Compression Quality: 75
Default Resampling Method: Bilinear
Max Record Count: null
Max Image Height: 4100
Max Image Width: 15000
Max Download Image Count: null
Max Mosaic Image Count: null
Allow Raster Function: true
Allow Copy: true
Allow Analysis: true
Allow Compute TiePoints: false
Supports Statistics: false
Supports Advanced Queries: false
Use StandardizedQueries: true
Raster Type Infos:
Name: Raster Dataset
Description: Supports all ArcGIS Raster Datasets
Help:
Has Raster Attribute Table: true
Edit Fields Info: null
Ownership Based AccessControl For Rasters: null
Child Resources:
Info
Raster Attribute Table
Histograms
Statistics
Key Properties
Legend
Raster Function Infos
Supported Operations:
Export Image
Identify
Measure
Compute Histograms
Compute Statistics Histograms
Get Samples
Compute Class Statistics
Query Boundary
Compute Pixel Location
Compute Angles
Validate
Project