<?xml version="1.0" encoding="UTF-8" standalone="no"?>
<metadata xml:lang="en">
<Esri>
<CreaDate>20231121</CreaDate>
<CreaTime>15003500</CreaTime>
<ArcGISFormat>1.0</ArcGISFormat>
<SyncOnce>FALSE</SyncOnce>
<DataProperties>
<lineage>
<Process Date="20230525" Name="" Time="152516" ToolSource="c:\program files\arcgis\pro\Resources\ArcToolbox\toolboxes\Data Management Tools.tbx\CreateMosaicDataset" export="">CreateMosaicDataset D:\Shared\Data\elevation.gdb DSM_Region_2020_2022_LiDAR_1m_NZVD2016 PROJCS["NZGD_2000_New_Zealand_Transverse_Mercator",GEOGCS["GCS_NZGD_2000",DATUM["D_NZGD_2000",SPHEROID["GRS_1980",6378137.0,298.257222101]],PRIMEM["Greenwich",0.0],UNIT["Degree",0.0174532925199433]],PROJECTION["Transverse_Mercator"],PARAMETER["False_Easting",1600000.0],PARAMETER["False_Northing",10000000.0],PARAMETER["Central_Meridian",173.0],PARAMETER["Scale_Factor",0.9996],PARAMETER["Latitude_Of_Origin",0.0],UNIT["Meter",1.0]],VERTCS["NZVD2016_height",VDATUM["New_Zealand_Vertical_Datum_2016"],PARAMETER["Vertical_Shift",0.0],PARAMETER["Direction",1.0],UNIT["Meter",1.0]] # "32-bit floating point" Custom #</Process>
<Process Date="20230525" Name="" Time="152947" ToolSource="c:\program files\arcgis\pro\Resources\ArcToolbox\toolboxes\Data Management Tools.tbx\AddRastersToMosaicDataset" export="">AddRastersToMosaicDataset D:\Shared\Data\elevation.gdb\DSM_Region_2020_2022_LiDAR_1m_NZVD2016 "Raster Dataset" D:\Shared\Data\elevation.gdb\DSM_2021_1m;D:\Shared\Data\elevation.gdb\DSM_2022_1m_Whakatane_NZVD2016;D:\Shared\Data\elevation.gdb\DSM_2022_1m_Opotiki_NZVD2016;D:\Shared\Data\elevation.gdb\DSM_2022_1m_Rotorua_NZVD2016 UPDATE_CELL_SIZES UPDATE_BOUNDARY NO_OVERVIEWS # 0 1500 # # SUBFOLDERS "Allow duplicates" NO_PYRAMIDS NO_STATISTICS NO_THUMBNAILS # NO_FORCE_SPATIAL_REFERENCE ESTIMATE_STATISTICS # NO_PIXEL_CACHE C:\Users\simonal\AppData\Local\ESRI\rasterproxies\DSM_Region_2020_2022_LiDAR_1m_NZVD2016</Process>
<Process Date="20230619" Name="" Time="120150" ToolSource="c:\program files\arcgis\pro\Resources\ArcToolbox\toolboxes\Data Management Tools.tbx\AddRastersToMosaicDataset" export="">AddRastersToMosaicDataset D:\Shared\Data\elevation.gdb\DSM_Region_2020_2022_LiDAR_1m_NZVD2016 "Raster Dataset" \\gisimg\Shared\MosaicTiles\ElevationTiles\DSM\DSM_2019_2022_1m_PGFLiDAR UPDATE_CELL_SIZES UPDATE_BOUNDARY NO_OVERVIEWS # 0 1500 # # SUBFOLDERS "Allow duplicates" NO_PYRAMIDS CALCULATE_STATISTICS NO_THUMBNAILS # NO_FORCE_SPATIAL_REFERENCE ESTIMATE_STATISTICS # NO_PIXEL_CACHE C:\Users\simonal\AppData\Local\ESRI\rasterproxies\DSM_Region_2020_2022_LiDAR_1m_NZVD2016</Process>
<Process Date="20230620" Name="" Time="025155" ToolSource="c:\program files\arcgis\pro\Resources\ArcToolbox\toolboxes\Data Management Tools.tbx\CalculateStatistics" export="">CalculateStatistics I:\Data\elevation.gdb\DSM_Region_2020_2022_LiDAR_1m_NZVD2016 1 1 # OVERWRITE "Feature Set"</Process>
<Process Date="20231116" Name="" Time="155810" ToolSource="c:\program files\arcgis\pro\Resources\ArcToolbox\Toolboxes\Data Management Tools.tbx\Rename" export="">Rename \\GISIMG-TEST\Shared\Data\elevation.gdb\DSM_Region_2020_2022_LiDAR_1m_NZVD2016 \\GISIMG-TEST\Shared\Data\elevation.gdb\DSM__2022_1m_BOPRegion_NZVD2016 MosaicDataset</Process>
<Process Date="20231116" Name="" Time="161640" ToolSource="c:\program files\arcgis\pro\Resources\ArcToolbox\toolboxes\Data Management Tools.tbx\AddRastersToMosaicDataset" export="">AddRastersToMosaicDataset \\GISIMG-TEST\Shared\Data\elevation.gdb\DSM__2022_1m_BOPRegion_NZVD2016 "Raster Dataset" \\GISIMG\Shared\MosaicTiles\ElevationTiles\DSM\DSM_2019_2022_1m_PGFLiDAR\OuterRegionTiles\WaikatoRegionalCouncil\s3 UPDATE_CELL_SIZES UPDATE_BOUNDARY NO_OVERVIEWS # 0 1500 # # SUBFOLDERS "Allow duplicates" NO_PYRAMIDS CALCULATE_STATISTICS NO_THUMBNAILS # NO_FORCE_SPATIAL_REFERENCE NO_STATISTICS # NO_PIXEL_CACHE C:\Users\simonal\AppData\Local\ESRI\rasterproxies\DSM_Region_2020_2022_LiDAR_1m_NZVD2016</Process>
<Process Date="20231116" Name="" Time="215639" ToolSource="c:\program files\arcgis\pro\Resources\ArcToolbox\toolboxes\Data Management Tools.tbx\Rename" export="">Rename \\GISIMG-TEST\Shared\Data\elevation.gdb\DSM__2022_1m_BOPRegion_NZVD2016 \\GISIMG-TEST\Shared\Data\elevation.gdb\DSM_2022_1m_BOPRegion_NZVD2016 MosaicDataset</Process>
<Process Date="20231121" Time="150051" ToolSource="c:\program files\arcgis\pro\Resources\ArcToolbox\Toolboxes\Data Management Tools.tbx\CopyMultiple">CopyMultiple "I:\Data\elevation.gdb\DSM_2022_1m_BOPRegion_NZVD2016 MosaicDataset" R:\Data\elevation.gdb DSM_2022_1m_BOPRegion_NZVD2016 "DSM_2022_1m_BOPRegion_NZVD2016 MosaicDataset DSM_2022_1m_BOPRegion_NZVD2016 #"</Process>
</lineage>
<itemProps>
<imsContentType Sync="TRUE">002</imsContentType>
<itemName Sync="TRUE">DSM_2022_1m_BOPRegion_NZVD2016</itemName>
<itemLocation>
<linkage Sync="TRUE">file://\\gisimg\Shared\Data\elevation.gdb</linkage>
<protocol Sync="TRUE">Local Area Network</protocol>
</itemLocation>
<nativeExtBox>
<westBL Sync="TRUE">1847200.000000</westBL>
<eastBL Sync="TRUE">2056960.000000</eastBL>
<southBL Sync="TRUE">5676720.000000</southBL>
<northBL Sync="TRUE">5871120.000000</northBL>
<exTypeCode Sync="TRUE">1</exTypeCode>
</nativeExtBox>
</itemProps>
<coordRef>
<type Sync="TRUE">Projected</type>
<geogcsn Sync="TRUE">GCS_NZGD_2000</geogcsn>
<csUnits Sync="TRUE">Linear Unit: Meter (1.000000)</csUnits>
<projcsn Sync="TRUE">NZGD_2000_New_Zealand_Transverse_Mercator</projcsn>
<peXml Sync="TRUE">&lt;ProjectedCoordinateSystem xsi:type='typens:ProjectedCoordinateSystem' xmlns:xsi='http://www.w3.org/2001/XMLSchema-instance' xmlns:xs='http://www.w3.org/2001/XMLSchema' xmlns:typens='http://www.esri.com/schemas/ArcGIS/3.0.0'&gt;&lt;WKT&gt;PROJCS[&amp;quot;NZGD_2000_New_Zealand_Transverse_Mercator&amp;quot;,GEOGCS[&amp;quot;GCS_NZGD_2000&amp;quot;,DATUM[&amp;quot;D_NZGD_2000&amp;quot;,SPHEROID[&amp;quot;GRS_1980&amp;quot;,6378137.0,298.257222101]],PRIMEM[&amp;quot;Greenwich&amp;quot;,0.0],UNIT[&amp;quot;Degree&amp;quot;,0.0174532925199433]],PROJECTION[&amp;quot;Transverse_Mercator&amp;quot;],PARAMETER[&amp;quot;False_Easting&amp;quot;,1600000.0],PARAMETER[&amp;quot;False_Northing&amp;quot;,10000000.0],PARAMETER[&amp;quot;Central_Meridian&amp;quot;,173.0],PARAMETER[&amp;quot;Scale_Factor&amp;quot;,0.9996],PARAMETER[&amp;quot;Latitude_Of_Origin&amp;quot;,0.0],UNIT[&amp;quot;Meter&amp;quot;,1.0],AUTHORITY[&amp;quot;EPSG&amp;quot;,2193]],VERTCS[&amp;quot;NZVD2016_height&amp;quot;,VDATUM[&amp;quot;New_Zealand_Vertical_Datum_2016&amp;quot;],PARAMETER[&amp;quot;Vertical_Shift&amp;quot;,0.0],PARAMETER[&amp;quot;Direction&amp;quot;,1.0],UNIT[&amp;quot;Meter&amp;quot;,1.0],AUTHORITY[&amp;quot;EPSG&amp;quot;,7839]]&lt;/WKT&gt;&lt;XOrigin&gt;-4020900&lt;/XOrigin&gt;&lt;YOrigin&gt;1900&lt;/YOrigin&gt;&lt;XYScale&gt;450445547.3910538&lt;/XYScale&gt;&lt;ZOrigin&gt;-100000&lt;/ZOrigin&gt;&lt;ZScale&gt;10000&lt;/ZScale&gt;&lt;MOrigin&gt;-100000&lt;/MOrigin&gt;&lt;MScale&gt;10000&lt;/MScale&gt;&lt;XYTolerance&gt;0.001&lt;/XYTolerance&gt;&lt;ZTolerance&gt;0.001&lt;/ZTolerance&gt;&lt;MTolerance&gt;0.001&lt;/MTolerance&gt;&lt;HighPrecision&gt;true&lt;/HighPrecision&gt;&lt;WKID&gt;2193&lt;/WKID&gt;&lt;LatestWKID&gt;2193&lt;/LatestWKID&gt;&lt;VCSWKID&gt;7839&lt;/VCSWKID&gt;&lt;LatestVCSWKID&gt;7839&lt;/LatestVCSWKID&gt;&lt;/ProjectedCoordinateSystem&gt;</peXml>
</coordRef>
<RasterProperties>
<General>
<PixelDepth Sync="TRUE">32</PixelDepth>
<HasColormap Sync="TRUE">FALSE</HasColormap>
<CompressionType Sync="TRUE">None</CompressionType>
<NumBands Sync="TRUE">1</NumBands>
<Format Sync="TRUE">AMD</Format>
<HasPyramids Sync="TRUE">TRUE</HasPyramids>
<SourceType Sync="TRUE">continuous</SourceType>
<PixelType Sync="TRUE">floating point</PixelType>
<NoDataValue Sync="TRUE"/>
</General>
<Properties>
<MaxImageHeight Sync="TRUE">4100</MaxImageHeight>
<MaxImageWidth Sync="TRUE">15000</MaxImageWidth>
<MaxRecordCount Sync="TRUE">1000</MaxRecordCount>
<MaxDownloadImageCount Sync="TRUE">20</MaxDownloadImageCount>
<MaxDownloadSizeLimit Sync="TRUE">2048</MaxDownloadSizeLimit>
<MaxMosaicImageCount Sync="TRUE">42</MaxMosaicImageCount>
<DefaultCompressionQuality Sync="TRUE">75</DefaultCompressionQuality>
<DefaultCompressionTolerance Sync="TRUE">0.01</DefaultCompressionTolerance>
<BlendWidth Sync="TRUE">10</BlendWidth>
<ViewpointSpacingX Sync="TRUE">600</ViewpointSpacingX>
<ViewpointSpacingY Sync="TRUE">300</ViewpointSpacingY>
<AllowedItemMetadata Sync="TRUE">Basic</AllowedItemMetadata>
<DefaultResamplingMethod Sync="TRUE">1</DefaultResamplingMethod>
<AllowedMosaicMethods Sync="TRUE">NorthWest,Center,LockRaster,ByAttribute,Nadir,Viewpoint,Seamline,None</AllowedMosaicMethods>
<AllowedCompressions Sync="TRUE">LERC,None,JPEG,LZ77</AllowedCompressions>
<AllowedMensurationCapabilities Sync="TRUE">Basic,Base-Top Height,Base-Top Shadow Height,Top-Top Shadow Height,3D</AllowedMensurationCapabilities>
<AvailableMensurationCapabilities Sync="TRUE">None,Basic,Base-Top Height,Top-Top Shadow Height,Base-Top Shadow Height,3D</AvailableMensurationCapabilities>
<ClipToBoundary Sync="TRUE">-1</ClipToBoundary>
<FootprintMayContainNoData Sync="TRUE">-1</FootprintMayContainNoData>
<CellSizeTolerance Sync="TRUE">0.8</CellSizeTolerance>
<MinimumPixelContribution Sync="TRUE">1</MinimumPixelContribution>
<AvailableMosaicMethods Sync="TRUE">NorthWest,Center,LockRaster,ByAttribute,Nadir,Viewpoint,Seamline,None</AvailableMosaicMethods>
<AvailableCompressionMethods Sync="TRUE">None,JPEG,LZ77,LERC</AvailableCompressionMethods>
<AvailableItemMetadataLevels Sync="TRUE">None,Basic,Full</AvailableItemMetadataLevels>
<BandDefinitionKeyword Sync="TRUE">CUSTOM</BandDefinitionKeyword>
<_docversion_ Sync="TRUE">10</_docversion_>
<AllowedFields Sync="TRUE">Name,MinPS,MaxPS,LowPS,HighPS,Tag,GroupName,ProductName,CenterX,CenterY,ZOrder,Shape_Length,Shape_Area</AllowedFields>
<MaxCellSize Sync="TRUE">36450</MaxCellSize>
<LowCellSize Sync="TRUE">1</LowCellSize>
<HighCellSize Sync="TRUE">729</HighCellSize>
<PixelCacheLocation Sync="TRUE">C:\Users\simonal\AppData\Local\ESRI\rasterproxies\DSM_Region_2020_2022_LiDAR_1m_NZVD2016</PixelCacheLocation>
<DataType Sync="TRUE">Elevation</DataType>
<AvailableFields Sync="TRUE">Name,MinPS,MaxPS,LowPS,HighPS,Tag,GroupName,ProductName,CenterX,CenterY,ZOrder,Shape_Length,Shape_Area</AvailableFields>
<SortableFields Sync="TRUE">MinPS,MaxPS,LowPS,HighPS,CenterX,CenterY,ZOrder,Shape_Length,Shape_Area</SortableFields>
<SortAscending Sync="TRUE">-1</SortAscending>
<MosaicOperator Sync="TRUE">1</MosaicOperator>
<BlendWidthUnits Sync="TRUE">1</BlendWidthUnits>
<ClipToFootprint Sync="TRUE">0</ClipToFootprint>
<ClipOverviewsToFootprint Sync="TRUE">0</ClipOverviewsToFootprint>
<HasDodgingTable Sync="TRUE">0</HasDodgingTable>
<ApplyColorCorrection Sync="TRUE">0</ApplyColorCorrection>
<UseTime Sync="TRUE">0</UseTime>
<StartTimeFieldName Sync="TRUE"/>
<EndTimeFieldName Sync="TRUE"/>
<TimeValueFormat Sync="TRUE"/>
<UseRange Sync="TRUE">0</UseRange>
<TimeInterval Sync="TRUE">0</TimeInterval>
<TimeIntervalUnits Sync="TRUE"/>
</Properties>
<Functions Sync="TRUE">
<Function Description="Performs on-the-fly mosaic on a raster catalog." Name="Mosaic Function"/>
</Functions>
</RasterProperties>
</DataProperties>
<ArcGISProfile>NAP</ArcGISProfile>
<scaleRange>
<minScale>625000</minScale>
<maxScale>5000</maxScale>
</scaleRange>
<SyncDate>20231121</SyncDate>
<SyncTime>13171200</SyncTime>
<ModDate>20231121</ModDate>
<ModTime>14141700</ModTime>
</Esri>
<mdLang>
<languageCode Sync="TRUE" value="eng"/>
<countryCode Sync="TRUE" value="NZL"/>
</mdLang>
<mdHrLv>
<ScopeCd value="005"/>
</mdHrLv>
<mdHrLvName Sync="TRUE">dataset</mdHrLvName>
<mdDateSt Sync="TRUE">20231121</mdDateSt>
<distInfo>
<distFormat>
<formatName Sync="TRUE">File Geodatabase Raster Dataset</formatName>
</distFormat>
</distInfo>
<dataIdInfo>
<idPurp>LiDAR was captured for BOPLASS Ltd by Aerial Surveys from 27 October 2019 to 24 October 2022. This Image Service contains the Digital Surface Model (DSM) processed from the ground LiDAR point cloud, including DSM tiles from neighboring regions.</idPurp>
<idAbs>&lt;div style='text-align:Left;'&gt;&lt;div&gt;&lt;div&gt;&lt;span style='font-size:16px;'&gt;LiDAR was captured for BOPLASS Ltd by Aerial Surveys from 27 October 2019 to 24 October 2022.  &lt;/span&gt;&lt;/div&gt;&lt;div&gt;&lt;span style='font-size:16px;'&gt;&lt;br /&gt;&lt;/span&gt;&lt;/div&gt;&lt;div&gt;&lt;span style='font-size:16px;'&gt;This Image Service contains the Digital Surface Model (DSM) processed from the ground LiDAR point cloud, including DSM tiles from neighboring regions.&lt;/span&gt;&lt;/div&gt;&lt;/div&gt;&lt;/div&gt;&lt;div style='text-align:Left;'&gt;&lt;span style='font-size:16px;'&gt;&lt;br /&gt;&lt;/span&gt;&lt;/div&gt;&lt;div style='text-align:Left;'&gt;&lt;span style='font-size:16px;'&gt;BOPRC Provincial Groth Fund (PGF) LiDAR Block 1-4 were combined into a single mosaic data from Block 1 (Western Bay of Plenty/TCC/Offshore Islands), 2 (Whakatane/Offshore Islands), 3 (Rotorua), and 4 (Opotiki/Offshore Islands). These areas are available for download on the LINZ Data Service. &lt;/span&gt;&lt;a href='https://data.linz.govt.nz/layer/105690-bay-of-plenty-lidar-1m-dsm-2019-2022/' target='_blank'&gt;https://data.linz.govt.nz/layer/105690-bay-of-plenty-lidar-1m-dsm-2019-2022/ &lt;/a&gt;&lt;span style='font-size:16px;'&gt; &lt;/span&gt;&lt;font size='3'&gt;&lt;br /&gt;&lt;/font&gt;&lt;/div&gt;&lt;div style='text-align:Left;'&gt;&lt;span style='font-size:16px;'&gt;&lt;br /&gt;&lt;/span&gt;&lt;/div&gt;&lt;div style='text-align:Left;'&gt;&lt;div style='font-size:16px;'&gt;The purposeful extent of this elevation layer is the same as its sister DEM which tends to cover all surface water catchments within the BOPRC Region as depicted from the Draft National Policy Statement for Freshwater Management (NPSFM) Freshwater Management Unit (FMU) boundaries &lt;a href='https://maps.boprc.govt.nz/datasets/BOPRC::freshwater-management-units-draft' target='_blank'&gt;https://maps.boprc.govt.nz/datasets/BOPRC::freshwater-management-units-draft&lt;/a&gt; aligned to NIWA REC 2.4 boundaries &lt;a href='https://www.arcgis.com/home/item.html?id=28d23ad94c2a4846b7634f4cdbba178f' target='_blank'&gt;https://www.arcgis.com/home/item.html?id=28d23ad94c2a4846b7634f4cdbba178f&lt;/a&gt;.&lt;/div&gt;&lt;div&gt;&lt;br /&gt;&lt;font size='3'&gt;Outer region DEM tiles and additional Taupo District elevation tiles falling within the BOPRC region were kindly supplied by the adjacent regions/territorial local authorities or acquired through the Land Information New Zealand (LINZ) Data Service.&lt;/font&gt;&lt;/div&gt;&lt;span style='font-size:16px;'&gt;&lt;div&gt;&lt;br /&gt;&lt;/div&gt;&lt;/span&gt;&lt;/div&gt;&lt;div style='text-align:Left;'&gt;&lt;span style='font-size:16px;'&gt;Because the outer-region tiles originated from a different batch/source of processed elevation models, edge artifact and slight discrepancies maybe visible. This will be fixed when National LiDAR point cloud derived surfaces are developed and made available for the tiles between different region captures.&lt;/span&gt;&lt;span style='font-size:16px;'&gt;&lt;br /&gt;&lt;/span&gt;&lt;/div&gt;&lt;div style='text-align:Left;'&gt;&lt;span style='font-size:16px;'&gt;&lt;br /&gt;&lt;/span&gt;&lt;/div&gt;&lt;div style='text-align:Left;'&gt;&lt;span style='font-size:16px;'&gt;&lt;br /&gt;&lt;/span&gt;&lt;/div&gt;&lt;div style='text-align:Left;'&gt;&lt;span style='font-size:16px;'&gt;General specifications across this dataset included:&lt;/span&gt;&lt;/div&gt;&lt;div style='text-align:Left;'&gt;&lt;p&gt;&lt;span style='font-size:16px;'&gt;- Pulse density specification is at a minimum of &amp;gt;4 pulses/square meter.&lt;/span&gt;&lt;br /&gt;&lt;/p&gt;&lt;p&gt;&lt;span style='font-size:16px;'&gt;- Vertical Accuracy Specification is +/- 0.2m (95%)&lt;/span&gt;&lt;/p&gt;&lt;p&gt;&lt;span style='font-size:16px;'&gt;- Horizontal Accuracy Specification is +/- 1.0m (95%)&lt;/span&gt;&lt;/p&gt;&lt;p&gt;&lt;span style='font-size:16px;'&gt;Vertical datum is NZVD2016.  Projection/Coordinate System: New Zealand Transverse Mercator (NZTM).&lt;/span&gt;&lt;/p&gt;&lt;/div&gt;&lt;div style='text-align:Left;'&gt;&lt;font size='3'&gt;The Digital Elevation Model (DEM) which includes ground heights is available from the LINZ Data Service at &lt;/font&gt;&lt;a href='https://data.linz.govt.nz/layer/105691-bay-of-plenty-lidar-1m-dem-2019-2022/' target='_blank'&gt;https://data.linz.govt.nz/layer/105691-bay-of-plenty-lidar-1m-dem-2019-2022/&lt;/a&gt;&lt;font size='3'&gt; The LAS point cloud and vendor project reports are available from &lt;/font&gt;&lt;a href='https://OpenTopography.org' target='_blank'&gt;OpenTopography.org&lt;/a&gt;&lt;font size='3'&gt; &lt;/font&gt;&lt;a href='https://portal.opentopography.org/datasetMetadata?otCollectionID=OT.082021.2193.1' target='_blank'&gt;https://portal.opentopography.org/datasetMetadata?otCollectionID=OT.082021.2193.1&lt;/a&gt;&lt;font size='3'&gt;  &lt;/font&gt;&lt;br /&gt;&lt;/div&gt;&lt;div style='text-align:Left;'&gt;&lt;p&gt;&lt;font size='3'&gt;&lt;span style='font-family:&amp;quot;Segoe UI&amp;quot;, Arial, sans-serif;'&gt;The Elevation Aotearoa story map hosted by LINZ is an excellent resource and can be used to learn about use cases of LiDAR and how to use make the most use of it. &lt;/span&gt;&lt;a href='https://linz.maps.arcgis.com/apps/MapSeries/index.html?appid=2552c3a5cee24f7b87806b085c3fee8a' target='_blank'&gt;https://linz.maps.arcgis.com/apps/MapSeries/index.html?appid=2552c3a5cee24f7b87806b085c3fee8a&lt;/a&gt;&lt;/font&gt;&lt;/p&gt;&lt;p&gt;&lt;span style='font-size:12pt;'&gt;&lt;br /&gt;&lt;/span&gt;&lt;/p&gt;&lt;p&gt;&lt;span style='font-size:12pt;'&gt;Please see the below &lt;/span&gt;&lt;span style='font-weight:bold; font-size:12pt;'&gt;extended metadata series &lt;/span&gt;&lt;span style='font-size:12pt;'&gt;for additional details and specs related to this dataset and underlying source LiDAR point cloud data. This section also lists where the source data resides.&lt;/span&gt;&lt;br /&gt;&lt;/p&gt;&lt;p&gt;&lt;span style='font-size:12pt;'&gt;Vendor Survey Reports: &lt;/span&gt;&lt;a href='https://object.cloud.sdsc.edu:443/v1/AUTH_opentopography/www/metadata/NZ20_BoP_metadata.pdf' style='text-decoration:underline;'&gt;&lt;span style='font-size:12pt;'&gt;https://object.cloud.sdsc.edu/v1/AUTH_opentopography/www/metadata/NZ20_BoP_metadata.pdf&lt;/span&gt;&lt;/a&gt;&lt;span style='font-size:12pt;'&gt; &lt;/span&gt;&lt;/p&gt;&lt;p&gt;&lt;span style='font-size:12pt;'&gt;Vendor LAS validation reports: &lt;/span&gt;&lt;a href='https://object.cloud.sdsc.edu:443/v1/AUTH_opentopography/www/metadata/NZ20_BoP_metadata.pdf' style='text-decoration:underline;'&gt;&lt;span style='font-size:12pt;'&gt;https://object.cloud.sdsc.edu/v1/AUTH_opentopography/www/metadata/NZ20_BoP_metadata.pdf&lt;/span&gt;&lt;/a&gt;&lt;/p&gt;&lt;p&gt;---------------------------------------------------------------------------------------------------------------------------------------------------------------------------------------------------&lt;br /&gt;&lt;/p&gt;&lt;p&gt;This high-quality LiDAR data is also consumed in an Eagle hosted NZ Elevation layer on the ESRI living atlas of NZ and also in the World Terrain elevation layer on the ESRI world living atlas. Consider using these image services in your workflows as supplementary as they may be faster and provide different functionality at different spatial scales. For use in 3d apps and basemaps, consider using the tile layers.&lt;/p&gt;&lt;p style='margin:0 0 0 0;'&gt;&lt;span&gt;&lt;/span&gt;&lt;/p&gt;&lt;p style='margin:0 0 0 0;'&gt;&lt;span&gt;Eagle ESRI NZ Elevation Layer: &lt;/span&gt;&lt;a href='https://services1.arcgisonline.co.nz:443/arcgis/rest/services/Elevation/New_Zealand_Elevation/ImageServer' style='text-decoration:underline;'&gt;&lt;span&gt;https://services1.arcgisonline.co.nz/arcgis/rest/services/Elevation/New_Zealand_Elevation/ImageServer&lt;/span&gt;&lt;/a&gt;&lt;/p&gt;&lt;p style='margin:0 0 0 0;'&gt;&lt;font size='3'&gt;&lt;span style='font-family:&amp;quot;Segoe UI&amp;quot;, Arial, sans-serif;'&gt;Eagle ESRI NZ DSM Hillshade Tile Layer: &lt;/span&gt;&lt;/font&gt;&lt;a href='https://www.arcgis.com/home/item.html?id=cfc4e4be1e6d4c09a0d8f0a25601efd9' target='_blank'&gt;https://www.arcgis.com/home/item.html?id=cfc4e4be1e6d4c09a0d8f0a25601efd9&lt;/a&gt;&lt;br /&gt;&lt;/p&gt;&lt;p style='margin:0 0 0 0;'&gt;&lt;span&gt;ESRI Living Atlas World Terrain elevation layer: &lt;/span&gt;&lt;a href='https://elevation.arcgis.com:443/arcgis/rest/services/WorldElevation/Terrain/ImageServer' style='text-decoration:underline;'&gt;&lt;span&gt;https://elevation.arcgis.com/arcgis/rest/services/WorldElevation/Terrain/ImageServer &lt;/span&gt;&lt;/a&gt;&lt;/p&gt;&lt;p style='margin:0 0 0 0;'&gt;&lt;span&gt;&lt;/span&gt;&lt;/p&gt;&lt;p&gt;&lt;span&gt;&lt;br /&gt;&lt;/span&gt;&lt;/p&gt;&lt;p&gt;&lt;span&gt;Any queries&lt;/span&gt;&lt;span&gt; about accessing additional related data&lt;/span&gt;&lt;span&gt; or&lt;/span&gt;&lt;span&gt; if you experience any&lt;/span&gt;&lt;span&gt; problems accessing anything, contact the BOPRC Geospatial team at &lt;/span&gt;&lt;a href='https://www.boprc.govt.nz/your-council/contact-us' target='_blank'&gt;https://www.boprc.govt.nz/your-council/contact-us&lt;/a&gt;&lt;/p&gt;&lt;p&gt;&lt;span&gt;&lt;/span&gt;&lt;/p&gt;&lt;p&gt;&lt;span&gt;&lt;/span&gt;&lt;/p&gt;&lt;/div&gt;</idAbs>
<idCredit>Bay of Plenty Regional Council, BOPLASS, LINZ, Waikato Regional Council, Gisborne District Council, Hawkes Bay Regional Council</idCredit>
<idCitation>
<resTitle>DSM_2019_2022_1m_BOPRegion_NZVD2016</resTitle>
<presForm>
<PresFormCd Sync="TRUE" value="005"/>
</presForm>
</idCitation>
<searchKeys>
<keyword>NZVD2016</keyword>
<keyword>NZTM</keyword>
<keyword>PGF LiDAR</keyword>
<keyword>Provincial Growth Fund</keyword>
<keyword>Surface Elevation Model</keyword>
<keyword>DSM</keyword>
<keyword>2019-2023</keyword>
<keyword>BOPLASS</keyword>
<keyword>LINZ Data Service</keyword>
<keyword>OpenTopography.org</keyword>
<keyword>Waikato Regional Council</keyword>
<keyword>Gisborne District Council</keyword>
<keyword>Hawkes Bay Regional Council</keyword>
</searchKeys>
<resConst>
<Consts>
<useLimit>&lt;div style='text-align:Left;'&gt;&lt;div&gt;&lt;div&gt;&lt;p&gt;&lt;span&gt;https://creativecommons.org/licenses/by/4.0/&lt;/span&gt;&lt;/p&gt;&lt;/div&gt;&lt;/div&gt;&lt;/div&gt;</useLimit>
</Consts>
</resConst>
<envirDesc Sync="TRUE">Microsoft Windows 10 Version 10.0 (Build 19045) ; Esri ArcGIS 13.0.3.36057</envirDesc>
<dataLang>
<languageCode Sync="TRUE" value="eng"/>
<countryCode Sync="TRUE" value="NZL"/>
</dataLang>
<spatRpType>
<SpatRepTypCd Sync="TRUE" value="002"/>
</spatRpType>
<dataExt>
<geoEle>
<GeoBndBox esriExtentType="search">
<exTypeCode Sync="TRUE">1</exTypeCode>
<westBL Sync="TRUE">175.788005</westBL>
<eastBL Sync="TRUE">178.271108</eastBL>
<northBL Sync="TRUE">-37.194534</northBL>
<southBL Sync="TRUE">-39.023638</southBL>
</GeoBndBox>
</geoEle>
</dataExt>
</dataIdInfo>
<spatRepInfo>
<Georect>
<cellGeo>
<CellGeoCd Sync="TRUE" value="002"/>
</cellGeo>
<numDims Sync="TRUE">2</numDims>
<tranParaAv Sync="TRUE">1</tranParaAv>
<chkPtAv Sync="TRUE">0</chkPtAv>
<cornerPts>
<pos Sync="TRUE">1847200.000000 5676720.000000</pos>
</cornerPts>
<cornerPts>
<pos Sync="TRUE">1847200.000000 5871120.000000</pos>
</cornerPts>
<cornerPts>
<pos Sync="TRUE">2056960.000000 5871120.000000</pos>
</cornerPts>
<cornerPts>
<pos Sync="TRUE">2056960.000000 5676720.000000</pos>
</cornerPts>
<centerPt>
<pos Sync="TRUE">1952080.000000 5773920.000000</pos>
</centerPt>
<axisDimension type="002">
<dimSize Sync="TRUE">209760</dimSize>
<dimResol>
<value Sync="TRUE" uom="m">1.000000</value>
</dimResol>
</axisDimension>
