<?xml version="1.0" encoding="UTF-8" standalone="no"?>
<metadata xml:lang="en">
<Esri>
<CreaDate>20230419</CreaDate>
<CreaTime>15212900</CreaTime>
<ArcGISFormat>1.0</ArcGISFormat>
<SyncOnce>FALSE</SyncOnce>
<DataProperties>
<lineage>
<Process Date="20210412" Name="" Time="124746" ToolSource="c:\program files\arcgis\pro\Resources\ArcToolbox\toolboxes\Data Management Tools.tbx\CreateMosaicDataset" export="">CreateMosaicDataset \\gisimg-test\shared\data\elevation.gdb DEM_2021 PROJCS['NZGD_2000_New_Zealand_Transverse_Mercator',GEOGCS['GCS_NZGD_2000',DATUM['D_NZGD_2000',SPHEROID['GRS_1980',6378137.0,298.257222101]],PRIMEM['Greenwich',0.0],UNIT['Degree',0.0174532925199433]],PROJECTION['Transverse_Mercator'],PARAMETER['False_Easting',1600000.0],PARAMETER['False_Northing',10000000.0],PARAMETER['Central_Meridian',173.0],PARAMETER['Scale_Factor',0.9996],PARAMETER['Latitude_Of_Origin',0.0],UNIT['Meter',1.0]] 1 "32-bit floating point" None #</Process>
<Process Date="20210412" Name="" Time="150851" ToolSource="c:\program files\arcgis\pro\Resources\ArcToolbox\toolboxes\Data Management Tools.tbx\AddRastersToMosaicDataset" export="">AddRastersToMosaicDataset \\gisimg-test\shared\data\elevation.gdb\DEM_2021 "Raster Dataset" '\\bopgisapp01.boplass.govt.nz\OrthoAerialTiles\Original Data Received From Vendor\PGF LiDAR Deliveries\Delivery 1 - March 2021\Block1Part1\04_Gridded_DEM';'\\bopgisapp01.boplass.govt.nz\OrthoAerialTiles\Original Data Received From Vendor\PGF LiDAR Deliveries\Delivery 1 - March 2021\Block1Part2\04_Gridded_DEM' UPDATE_CELL_SIZES UPDATE_BOUNDARY NO_OVERVIEWS # 0 1500 # # SUBFOLDERS "Allow duplicates" NO_PYRAMIDS CALCULATE_STATISTICS NO_THUMBNAILS # NO_FORCE_SPATIAL_REFERENCE ESTIMATE_STATISTICS # NO_PIXEL_CACHE C:\Users\simonal\AppData\Local\ESRI\rasterproxies\DEM_2021</Process>
<Process Date="20210414" Name="" Time="214536" ToolSource="c:\program files (x86)\arcgis\desktop10.8\ArcToolbox\Toolboxes\Data Management Tools.tbx\CalculateStatistics" export="">CalculateStatistics \\gisimg-test\Shared\Data\elevation.gdb\DEM_2021 1 1 # OVERWRITE "Feature Set"</Process>
<Process Date="20210415" Name="" Time="072315" ToolSource="c:\program files\arcgis\pro\Resources\ArcToolbox\toolboxes\Data Management Tools.tbx\BuildPyramidsandStatistics" export="">BuildPyramidsandStatistics \\gisimg-test\shared\Data\elevation.gdb\DEM_2021 INCLUDE_SUBDIRECTORIES BUILD_PYRAMIDS CALCULATE_STATISTICS NONE # NONE 1 1 # -1 NONE Bilinear Default 75 OVERWRITE # NONE</Process>
<Process Date="20210415" Name="" Time="142425" ToolSource="c:\program files (x86)\arcgis\desktop10.8\ArcToolbox\Toolboxes\Data Management Tools.tbx\SetMosaicDatasetProperties" export="">SetMosaicDatasetProperties \\gisimg-test\Shared\Data\elevation.gdb\DEM_2021 4100 15000 None;LZ77;JPEG;LERC JPEG 75 0.01 BILINEAR NOT_CLIP FOOTPRINTS_MAY_CONTAIN_NODATA CLIP NOT_APPLY Basic;'Base-Top Height';'Base-Top Shadow Height';'Top-Top Shadow Height';3D Basic NorthWest;Center;LockRaster;ByAttribute;Nadir;Viewpoint;Seamline;None NorthWest # # ASCENDING FIRST 10 600 300 20 0.8 "0 0" BASIC Name;MinPS;MaxPS;LowPS;HighPS;Tag;GroupName;ProductName;CenterX;CenterY;ZOrder;Shape_Length;Shape_Area DISABLED # # # # 20 1000 ELEVATION 1 None None # # CUSTOM #</Process>
<Process Date="20210415" Name="" Time="165007" ToolSource="c:\program files (x86)\arcgis\desktop10.8\ArcToolbox\Toolboxes\Data Management Tools.tbx\CalculateStatistics" export="">CalculateStatistics \\gisimg-test\Shared\Data\elevation.gdb\DEM_2021 1 1 # OVERWRITE #</Process>
<Process Date="20210415" Name="" Time="225017" ToolSource="c:\program files (x86)\arcgis\desktop10.8\ArcToolbox\Toolboxes\Data Management Tools.tbx\CalculateStatistics" export="">CalculateStatistics \\gisimg-test\Shared\Data\elevation.gdb\DEM_2021 1 1 # OVERWRITE #</Process>
<Process Date="20210416" Name="" Time="151741" ToolSource="c:\program files (x86)\arcgis\desktop10.8\ArcToolbox\Toolboxes\Data Management Tools.tbx\DefineProjection" export="">DefineProjection \\gisimg-test\Shared\Data\elevation.gdb\DEM_2021 PROJCS['NZGD_2000_New_Zealand_Transverse_Mercator',GEOGCS['GCS_NZGD_2000',DATUM['D_NZGD_2000',SPHEROID['GRS_1980',6378137.0,298.257222101]],PRIMEM['Greenwich',0.0],UNIT['Degree',0.0174532925199433]],PROJECTION['Transverse_Mercator'],PARAMETER['False_Easting',1600000.0],PARAMETER['False_Northing',10000000.0],PARAMETER['Central_Meridian',173.0],PARAMETER['Scale_Factor',0.9996],PARAMETER['Latitude_Of_Origin',0.0],UNIT['Meter',1.0]],VERTCS['NZVD2016_height',VDATUM['New_Zealand_Vertical_Datum_2016'],PARAMETER['Vertical_Shift',0.0],PARAMETER['Direction',1.0],UNIT['Meter',1.0]]</Process>
<Process Date="20210802" Name="" Time="161800" ToolSource="c:\program files\arcgis\pro\Resources\ArcToolbox\toolboxes\Data Management Tools.tbx\AddRastersToMosaicDataset" export="">AddRastersToMosaicDataset \\gisimg-test\Shared\Data\elevation.gdb\DEM_2021 "Raster Dataset" \\gisimg\Shared\MosaicTiles\ElevationTiles\DEM_2021_1m UPDATE_CELL_SIZES UPDATE_BOUNDARY NO_OVERVIEWS # 0 1500 # # SUBFOLDERS "Overwrite duplicates" BUILD_PYRAMIDS CALCULATE_STATISTICS NO_THUMBNAILS # NO_FORCE_SPATIAL_REFERENCE ESTIMATE_STATISTICS # NO_PIXEL_CACHE C:\Users\simonal\AppData\Local\ESRI\rasterproxies\DEM_2021</Process>
<Process Date="20210805" Name="" Time="125021" ToolSource="c:\program files\arcgis\pro\Resources\ArcToolbox\Toolboxes\Data Management Tools.tbx\Rename" export="">Rename \\gisimg-test\shared\data\elevation.gdb\DEM_2021 \\gisimg-test\shared\data\elevation.gdb\DEM_2021_1m MosaicDataset</Process>
<Process Date="20230419" Name="" Time="152135" ToolSource="c:\program files\arcgis\pro\Resources\ArcToolbox\Toolboxes\Data Management Tools.tbx\CopyMultiple" export="">CopyMultiple "I:\Data\elevation.gdb\DEM_2021_1m MosaicDataset" R:\Data\elevation.gdb DEM_2021_1m "DEM_2021_1m MosaicDataset DEM_2021_1m #"</Process>
<Process Date="20230508" Time="113005" ToolSource="c:\program files\arcgis\pro\Resources\ArcToolbox\toolboxes\Data Management Tools.tbx\DefineProjection">DefineProjection R:\Data\elevation.gdb\DEM_2021_1m PROJCS["NZGD_2000_New_Zealand_Transverse_Mercator",GEOGCS["GCS_NZGD_2000",DATUM["D_NZGD_2000",SPHEROID["GRS_1980",6378137.0,298.257222101]],PRIMEM["Greenwich",0.0],UNIT["Degree",0.0174532925199433]],PROJECTION["Transverse_Mercator"],PARAMETER["False_Easting",1600000.0],PARAMETER["False_Northing",10000000.0],PARAMETER["Central_Meridian",173.0],PARAMETER["Scale_Factor",0.9996],PARAMETER["Latitude_Of_Origin",0.0],UNIT["Meter",1.0]],VERTCS["NZVD2016_height",VDATUM["New_Zealand_Vertical_Datum_2016"],PARAMETER["Vertical_Shift",0.0],PARAMETER["Direction",1.0],UNIT["Meter",1.0]]</Process>
</lineage>
<itemProps>
<itemLocation>
<linkage Sync="TRUE">file://\\BRCSVGIS14\Shared\Data\elevation.gdb</linkage>
<protocol Sync="TRUE">Local Area Network</protocol>
</itemLocation>
<imsContentType Sync="TRUE">002</imsContentType>
<itemName Sync="TRUE">DEM_2021_1m</itemName>
<nativeExtBox>
<westBL Sync="TRUE">1848160.000000</westBL>
<eastBL Sync="TRUE">1903840.000000</eastBL>
<southBL Sync="TRUE">5793360.000000</southBL>
<northBL Sync="TRUE">5871120.000000</northBL>
<exTypeCode Sync="TRUE">1</exTypeCode>
</nativeExtBox>
</itemProps>
<coordRef>
<type Sync="TRUE">Projected</type>
<geogcsn Sync="TRUE">GCS_NZGD_2000</geogcsn>
<csUnits Sync="TRUE">Linear Unit: Meter (1.000000)</csUnits>
<projcsn Sync="TRUE">NZGD_2000_New_Zealand_Transverse_Mercator</projcsn>
<peXml Sync="TRUE">&lt;ProjectedCoordinateSystem xsi:type='typens:ProjectedCoordinateSystem' xmlns:xsi='http://www.w3.org/2001/XMLSchema-instance' xmlns:xs='http://www.w3.org/2001/XMLSchema' xmlns:typens='http://www.esri.com/schemas/ArcGIS/2.9.0'&gt;&lt;WKT&gt;PROJCS[&amp;quot;NZGD_2000_New_Zealand_Transverse_Mercator&amp;quot;,GEOGCS[&amp;quot;GCS_NZGD_2000&amp;quot;,DATUM[&amp;quot;D_NZGD_2000&amp;quot;,SPHEROID[&amp;quot;GRS_1980&amp;quot;,6378137.0,298.257222101]],PRIMEM[&amp;quot;Greenwich&amp;quot;,0.0],UNIT[&amp;quot;Degree&amp;quot;,0.0174532925199433]],PROJECTION[&amp;quot;Transverse_Mercator&amp;quot;],PARAMETER[&amp;quot;False_Easting&amp;quot;,1600000.0],PARAMETER[&amp;quot;False_Northing&amp;quot;,10000000.0],PARAMETER[&amp;quot;Central_Meridian&amp;quot;,173.0],PARAMETER[&amp;quot;Scale_Factor&amp;quot;,0.9996],PARAMETER[&amp;quot;Latitude_Of_Origin&amp;quot;,0.0],UNIT[&amp;quot;Meter&amp;quot;,1.0],AUTHORITY[&amp;quot;EPSG&amp;quot;,2193]]&lt;/WKT&gt;&lt;XOrigin&gt;-4020900&lt;/XOrigin&gt;&lt;YOrigin&gt;1900&lt;/YOrigin&gt;&lt;XYScale&gt;450445547.3910538&lt;/XYScale&gt;&lt;ZOrigin&gt;-100000&lt;/ZOrigin&gt;&lt;ZScale&gt;10000&lt;/ZScale&gt;&lt;MOrigin&gt;-100000&lt;/MOrigin&gt;&lt;MScale&gt;10000&lt;/MScale&gt;&lt;XYTolerance&gt;0.001&lt;/XYTolerance&gt;&lt;ZTolerance&gt;0.001&lt;/ZTolerance&gt;&lt;MTolerance&gt;0.001&lt;/MTolerance&gt;&lt;HighPrecision&gt;true&lt;/HighPrecision&gt;&lt;WKID&gt;2193&lt;/WKID&gt;&lt;LatestWKID&gt;2193&lt;/LatestWKID&gt;&lt;/ProjectedCoordinateSystem&gt;</peXml>
</coordRef>
<RasterProperties>
<General>
<PixelDepth Sync="TRUE">32</PixelDepth>
<HasColormap Sync="TRUE">FALSE</HasColormap>
<CompressionType Sync="TRUE">None</CompressionType>
<NumBands Sync="TRUE">1</NumBands>
<Format Sync="TRUE">AMD</Format>
<HasPyramids Sync="TRUE">TRUE</HasPyramids>
<SourceType Sync="TRUE">continuous</SourceType>
<PixelType Sync="TRUE">floating point</PixelType>
<NoDataValue Sync="TRUE"/>
</General>
<Properties>
<MaxImageHeight Sync="TRUE">4100</MaxImageHeight>
<MaxImageWidth Sync="TRUE">15000</MaxImageWidth>
<MaxRecordCount Sync="TRUE">1000</MaxRecordCount>
<MaxDownloadImageCount Sync="TRUE">20</MaxDownloadImageCount>
<MaxDownloadSizeLimit Sync="TRUE">2048</MaxDownloadSizeLimit>
<MaxMosaicImageCount Sync="TRUE">50</MaxMosaicImageCount>
<DefaultCompressionQuality Sync="TRUE">75</DefaultCompressionQuality>
<DefaultCompressionTolerance Sync="TRUE">0.01</DefaultCompressionTolerance>
<BlendWidth Sync="TRUE">10</BlendWidth>
<ViewpointSpacingX Sync="TRUE">600</ViewpointSpacingX>
<ViewpointSpacingY Sync="TRUE">300</ViewpointSpacingY>
<AllowedItemMetadata Sync="TRUE">Basic</AllowedItemMetadata>
<DefaultResamplingMethod Sync="TRUE">1</DefaultResamplingMethod>
<AllowedMosaicMethods Sync="TRUE">NorthWest,Center,LockRaster,ByAttribute,Nadir,Viewpoint,Seamline,None</AllowedMosaicMethods>
<AllowedCompressions Sync="TRUE">LERC,None,JPEG,LZ77</AllowedCompressions>
<AllowedMensurationCapabilities Sync="TRUE">None</AllowedMensurationCapabilities>
<AvailableMensurationCapabilities Sync="TRUE">None,Basic,Base-Top Height,Top-Top Shadow Height,Base-Top Shadow Height,3D</AvailableMensurationCapabilities>
<ClipToBoundary Sync="TRUE">-1</ClipToBoundary>
<FootprintMayContainNoData Sync="TRUE">-1</FootprintMayContainNoData>
<CellSizeTolerance Sync="TRUE">0.8</CellSizeTolerance>
<MinimumPixelContribution Sync="TRUE">1</MinimumPixelContribution>
<AvailableMosaicMethods Sync="TRUE">NorthWest,Center,LockRaster,ByAttribute,Nadir,Viewpoint,Seamline,None</AvailableMosaicMethods>
<AvailableCompressionMethods Sync="TRUE">None,JPEG,LZ77,LERC</AvailableCompressionMethods>
<AvailableItemMetadataLevels Sync="TRUE">None,Basic,Full</AvailableItemMetadataLevels>
<BandDefinitionKeyword Sync="TRUE">CUSTOM</BandDefinitionKeyword>
<_docversion_ Sync="TRUE">10</_docversion_>
<AllowedFields Sync="TRUE">Name,MinPS,MaxPS,LowPS,HighPS,Tag,GroupName,ProductName,CenterX,CenterY,ZOrder,Shape_Length,Shape_Area</AllowedFields>
<MaxCellSize Sync="TRUE">12150</MaxCellSize>
<LowCellSize Sync="TRUE">1</LowCellSize>
<HighCellSize Sync="TRUE">243</HighCellSize>
<PixelCacheLocation Sync="TRUE">C:\Users\simonal\AppData\Local\ESRI\rasterproxies\DEM_2021</PixelCacheLocation>
<DataType Sync="TRUE">Elevation</DataType>
<TimeIntervalUnits Sync="TRUE"/>
<ApplyColorCorrection Sync="TRUE">0</ApplyColorCorrection>
<AvailableFields Sync="TRUE">Name,MinPS,MaxPS,LowPS,HighPS,Tag,GroupName,ProductName,CenterX,CenterY,ZOrder,Shape_Length,Shape_Area</AvailableFields>
<SortableFields Sync="TRUE">MinPS,MaxPS,LowPS,HighPS,CenterX,CenterY,ZOrder,Shape_Length,Shape_Area</SortableFields>
<SortAscending Sync="TRUE">-1</SortAscending>
<MosaicOperator Sync="TRUE">1</MosaicOperator>
<BlendWidthUnits Sync="TRUE">1</BlendWidthUnits>
<ClipToFootprint Sync="TRUE">0</ClipToFootprint>
<ClipOverviewsToFootprint Sync="TRUE">0</ClipOverviewsToFootprint>
<HasDodgingTable Sync="TRUE">0</HasDodgingTable>
<UseTime Sync="TRUE">0</UseTime>
<StartTimeFieldName Sync="TRUE"/>
<EndTimeFieldName Sync="TRUE"/>
<TimeValueFormat Sync="TRUE"/>
<UseRange Sync="TRUE">0</UseRange>
<TimeInterval Sync="TRUE">0</TimeInterval>
<TimeStamp.RemoveItems Sync="TRUE">45034.3476506019</TimeStamp.RemoveItems>
<TimeStamp.UpdateExtent Sync="TRUE">45034.3490754282</TimeStamp.UpdateExtent>
</Properties>
<Functions Sync="TRUE">
<Function Description="Performs on-the-fly mosaic on a raster catalog." Name="Mosaic Function"/>
</Functions>
</RasterProperties>
</DataProperties>
<scaleRange>
<minScale>150000000</minScale>
<maxScale>5000</maxScale>
</scaleRange>
<SyncDate>20230420</SyncDate>
<SyncTime>08541100</SyncTime>
<ModDate>20230420</ModDate>
<ModTime>8565500</ModTime>
<ArcGISProfile>ItemDescription</ArcGISProfile>
</Esri>
<mdLang>
<languageCode Sync="TRUE" value="eng"/>
<countryCode Sync="TRUE" value="NZL"/>
</mdLang>
<mdHrLv>
<ScopeCd value="005"/>
</mdHrLv>
<mdHrLvName Sync="TRUE">dataset</mdHrLvName>
<mdDateSt Sync="TRUE">20230420</mdDateSt>
<distInfo>
<distFormat>
<formatName Sync="TRUE">File Geodatabase Raster Dataset</formatName>
</distFormat>
</distInfo>
<dataIdInfo>
<idPurp>This layer contains the DEM for LiDAR data in the Bay of Plenty region and includes Tauranga and the surrounding Western Bay of Plenty area captured between 2020 and 2021. The vertical datum is NZVD2016. </idPurp>
<idAbs>&lt;DIV STYLE="text-align:Left;"&gt;&lt;DIV&gt;&lt;DIV&gt;&lt;P&gt;&lt;SPAN STYLE="font-size:12pt"&gt;Please see the &lt;/SPAN&gt;&lt;SPAN STYLE="font-weight:bold;font-size:12pt"&gt;extended metadata series &lt;/SPAN&gt;&lt;SPAN STYLE="font-size:12pt"&gt;for additional details and specs related to this data source and its source LiDAR data:&lt;/SPAN&gt;&lt;/P&gt;&lt;P&gt;&lt;SPAN STYLE="font-size:12pt"&gt;- &lt;/SPAN&gt;&lt;A href="https://objective.envbop.net:443/id:A3908255/document/versions/published" STYLE="text-decoration:underline;"&gt;&lt;SPAN STYLE="font-size:12pt"&gt;BayofPlenty-2019-25-PGFLiDAR_Block1Part1Metadata&lt;/SPAN&gt;&lt;/A&gt;&lt;/P&gt;&lt;P&gt;&lt;SPAN STYLE="font-size:12pt"&gt;- &lt;/SPAN&gt;&lt;A href="https://objective.envbop.net:443/id:A3908256/document/versions/published" STYLE="text-decoration:underline;"&gt;&lt;SPAN STYLE="font-size:12pt"&gt;BayofPlenty-2019-25-PGFLiDAR_Block1Part2Metadata&lt;/SPAN&gt;&lt;/A&gt;&lt;/P&gt;&lt;P&gt;&lt;SPAN STYLE="font-size:12pt"&gt;- &lt;/SPAN&gt;&lt;A href="https://objective.envbop.net:443/id:A3908254/document/versions/published" STYLE="text-decoration:underline;"&gt;&lt;SPAN STYLE="font-size:12pt"&gt;20210224_PGF_LiDAR_2020-25_BayOfPlenty_Block1-pt1_Products QA Report&lt;/SPAN&gt;&lt;/A&gt;&lt;/P&gt;&lt;P&gt;&lt;SPAN STYLE="font-size:12pt"&gt;- &lt;/SPAN&gt;&lt;A href="https://objective.envbop.net:443/id:A3908257/document/versions/published" STYLE="text-decoration:underline;"&gt;&lt;SPAN STYLE="font-size:12pt"&gt;20210228_PGF_LiDAR_2020-25_BayOfPlenty_Block1-pt2_Products QA Report&lt;/SPAN&gt;&lt;/A&gt;&lt;/P&gt;&lt;P&gt;&lt;SPAN /&gt;&lt;/P&gt;&lt;P&gt;&lt;SPAN&gt;The &lt;/SPAN&gt;&lt;SPAN STYLE="font-weight:bold;"&gt;&lt;SPAN&gt;Classified Point Cloud&lt;/SPAN&gt;&lt;/SPAN&gt;&lt;SPAN&gt;&lt;SPAN&gt; is also available. This classifies all points captured into feature types such as bare ground, water features, vegetation and buildings and can be viewed in 3D.&lt;/SPAN&gt;&lt;/SPAN&gt;&lt;/P&gt;&lt;P&gt;&lt;SPAN&gt;&lt;SPAN&gt; &lt;/SPAN&gt;&lt;/SPAN&gt;&lt;/P&gt;&lt;P&gt;&lt;SPAN&gt;&lt;SPAN&gt;The easiest way to access the point cloud at present is through the &lt;/SPAN&gt;&lt;/SPAN&gt;&lt;A href="https://portal.opentopography.org/lidarDataset?opentopoID=OTLAS.082021.2193.1" STYLE="text-decoration:underline;"&gt;&lt;SPAN STYLE="text-decoration:underline;"&gt;&lt;SPAN&gt;Open Topography website. &lt;/SPAN&gt;&lt;/SPAN&gt;&lt;/A&gt;&lt;SPAN&gt;&lt;SPAN&gt; &lt;/SPAN&gt;&lt;/SPAN&gt;&lt;/P&gt;&lt;P /&gt;&lt;P&gt;&lt;SPAN STYLE="font-weight:bold;"&gt;&lt;SPAN&gt;Access for those outside the organisation&lt;/SPAN&gt;&lt;/SPAN&gt;&lt;/P&gt;&lt;P&gt;&lt;SPAN&gt;&lt;SPAN&gt; &lt;/SPAN&gt;&lt;/SPAN&gt;&lt;/P&gt;&lt;P&gt;&lt;SPAN&gt;&lt;SPAN&gt;If you are working with contractors or consultants who require access to the LiDAR, you can point them to the below locations where they can access the data themselves:&lt;/SPAN&gt;&lt;/SPAN&gt;&lt;/P&gt;&lt;P&gt;&lt;SPAN&gt;&lt;SPAN&gt; &lt;/SPAN&gt;&lt;/SPAN&gt;&lt;/P&gt;&lt;P&gt;&lt;A href="https://data.linz.govt.nz/layer/105690-bay-of-plenty-northwest-lidar-1m-dem-2020-2021/" STYLE="text-decoration:underline;"&gt;&lt;SPAN STYLE="text-decoration:underline;"&gt;&lt;SPAN&gt;LINZ Data Service - Digital Elevation Model&lt;/SPAN&gt;&lt;/SPAN&gt;&lt;/A&gt;&lt;/P&gt;&lt;P&gt;&lt;A href="https://data.linz.govt.nz/layer/105691" STYLE="text-decoration:underline;"&gt;&lt;SPAN STYLE="text-decoration:underline;"&gt;&lt;SPAN&gt;LINZ Data Service - Digital Surface Model&lt;/SPAN&gt;&lt;/SPAN&gt;&lt;/A&gt;&lt;/P&gt;&lt;P&gt;&lt;A href="https://portal.opentopography.org/lidarDataset?opentopoID=OTLAS.082021.2193.1" STYLE="text-decoration:underline;"&gt;&lt;SPAN STYLE="text-decoration:underline;"&gt;&lt;SPAN&gt;Open Topography - Point Cloud&lt;/SPAN&gt;&lt;/SPAN&gt;&lt;/A&gt;&lt;/P&gt;&lt;P /&gt;&lt;P STYLE="margin:0 0 0 0;"&gt;&lt;SPAN&gt;Any queries&lt;/SPAN&gt;&lt;SPAN&gt; about accessing additional related data&lt;/SPAN&gt;&lt;SPAN&gt; or&lt;/SPAN&gt;&lt;SPAN&gt; if you experience any&lt;/SPAN&gt;&lt;SPAN&gt; problems accessing anything, contact the Geospatial team. Capture for the remainder of the region is continuing, with further blocks being released over the next 1-2 years. &lt;/SPAN&gt;&lt;/P&gt;&lt;P /&gt;&lt;P&gt;&lt;SPAN /&gt;&lt;/P&gt;&lt;/DIV&gt;&lt;/DIV&gt;&lt;/DIV&gt;</idAbs>
<idCredit>Bay of Plenty Regional Council, BOPLASS, LINZ</idCredit>
<idCitation>
<resTitle>DEM_2021_1m</resTitle>
<presForm>
<PresFormCd Sync="TRUE" value="005"/>
</presForm>
</idCitation>
<searchKeys>
<keyword>NZVD2016</keyword>
<keyword>NZTM</keyword>
<keyword>PGF LiDAR</keyword>
<keyword>Ground Elevation Model</keyword>
<keyword>DEM</keyword>
<keyword>2020-2021</keyword>
<keyword>BOPLASS</keyword>
<keyword>LINZ Data Service</keyword>
<keyword>OpenTopography.org</keyword>
</searchKeys>
<resConst>
<Consts>
<useLimit>&lt;div style='text-align:Left;'&gt;&lt;p&gt;&lt;a href='https://creativecommons.org/licenses/by/4.0/' rel='nofollow ugc' target='_blank'&gt;https://creativecommons.org/licenses/by/4.0/&lt;/a&gt;&lt;br /&gt;&lt;/p&gt;&lt;/div&gt;</useLimit>
</Consts>
</resConst>
<envirDesc Sync="TRUE">Microsoft Windows Server 2016 Technical Preview Version 10.0 (Build 14393) ; Esri ArcGIS 12.9.3.32739</envirDesc>
<dataLang>
<languageCode Sync="TRUE" value="eng"/>
<countryCode Sync="TRUE" value="NZL"/>
</dataLang>
<spatRpType>
<SpatRepTypCd Sync="TRUE" value="002"/>
</spatRpType>
<dataExt>
<geoEle>
<GeoBndBox esriExtentType="search">
<exTypeCode Sync="TRUE">1</exTypeCode>
<westBL Sync="TRUE">175.798821</westBL>
<eastBL Sync="TRUE">176.458143</eastBL>
<northBL Sync="TRUE">-37.256948</northBL>
<southBL Sync="TRUE">-37.973490</southBL>
</GeoBndBox>
</geoEle>
</dataExt>
</dataIdInfo>
<refSysInfo>
<RefSystem>
<refSysID>
<identCode Sync="TRUE" code="2193"/>
<idCodeSpace Sync="TRUE">EPSG</idCodeSpace>
<idVersion Sync="TRUE">6.15(9.0.0)</idVersion>
</refSysID>
</RefSystem>
</refSysInfo>
<spatRepInfo>
<Georect>
<cellGeo>
<CellGeoCd Sync="TRUE" value="002"/>
</cellGeo>
<numDims Sync="TRUE">2</numDims>
<tranParaAv Sync="TRUE">1</tranParaAv>
<chkPtAv Sync="TRUE">0</chkPtAv>
<cornerPts>
<pos Sync="TRUE">1848160.000000 5793360.000000</pos>
</cornerPts>
<cornerPts>
<pos Sync="TRUE">1848160.000000 5871120.000000</pos>
</cornerPts>
<cornerPts>
<pos Sync="TRUE">1903840.000000 5871120.000000</pos>
</cornerPts>
<cornerPts>
<pos Sync="TRUE">1903840.000000 5793360.000000</pos>
</cornerPts>
<centerPt>
<pos Sync="TRUE">1876000.000000 5832240.000000</pos>
</centerPt>
<axisDimension type="002">
<dimSize Sync="TRUE">55680</dimSize>
<dimResol>
<value Sync="TRUE" uom="m">1.000000</value>
</dimResol>
</axisDimension>
<axisDimension type="001">
<dimSize Sync="TRUE">77760</dimSize>
<dimResol>
<value Sync="TRUE" uom="m">1.000000</value>
</dimResol>
</axisDimension>
<ptInPixel>
<PixOrientCd Sync="TRUE" value="001"/>
</ptInPixel>
</Georect>
</spatRepInfo>
<contInfo>
<ImgDesc>
<contentTyp>
<ContentTypCd Sync="TRUE" value="001"/>
</contentTyp>
<covDim>
<Band>
<dimDescrp Sync="TRUE">Band_1</dimDescrp>
<maxVal Sync="TRUE">879.705994</maxVal>
<minVal Sync="TRUE">-46.851002</minVal>
<bitsPerVal Sync="TRUE">32</bitsPerVal>
<valUnit>
<UOM type="length"/>
</valUnit>
</Band>
</covDim>
</ImgDesc>
</contInfo>
</metadata>
