<?xml version="1.0" encoding="UTF-8" standalone="no"?>
<metadata xml:lang="en">
<Esri>
<CreaDate>20200701</CreaDate>
<CreaTime>10591900</CreaTime>
<ArcGISFormat>1.0</ArcGISFormat>
<SyncOnce>FALSE</SyncOnce>
<DataProperties>
<lineage>
<Process Date="20200701" Name="" Time="105919" ToolSource="c:\program files\arcgis\pro\Resources\ArcToolbox\toolboxes\Data Management Tools.tbx\CreateMosaicDataset" export="">CreateMosaicDataset \\gisimg-test\Shared\Data\elevation.gdb DEM_2020_1m PROJCS['NZGD_2000_New_Zealand_Transverse_Mercator',GEOGCS['GCS_NZGD_2000',DATUM['D_NZGD_2000',SPHEROID['GRS_1980',6378137.0,298.257222101]],PRIMEM['Greenwich',0.0],UNIT['Degree',0.0174532925199433]],PROJECTION['Transverse_Mercator'],PARAMETER['False_Easting',1600000.0],PARAMETER['False_Northing',10000000.0],PARAMETER['Central_Meridian',173.0],PARAMETER['Scale_Factor',0.9996],PARAMETER['Latitude_Of_Origin',0.0],UNIT['Meter',1.0]] # "32-bit floating point" Custom #</Process>
<Process Date="20200701" Name="" Time="110707" ToolSource="c:\program files\arcgis\pro\Resources\ArcToolbox\toolboxes\Data Management Tools.tbx\AddRastersToMosaicDataset" export="">AddRastersToMosaicDataset \\gisimg-test\Shared\Data\elevation.gdb\DEM_2020_1m "Raster Dataset" \\gisimg\Shared\MosaicTiles\ElevationTiles\DEM_2020_1m UPDATE_CELL_SIZES UPDATE_BOUNDARY NO_OVERVIEWS # 0 1500 # # SUBFOLDERS "Allow duplicates" NO_PYRAMIDS CALCULATE_STATISTICS NO_THUMBNAILS # NO_FORCE_SPATIAL_REFERENCE ESTIMATE_STATISTICS # NO_PIXEL_CACHE C:\Users\simonal\AppData\Local\Temp\ArcGISPro4616\DEM_2020_1m</Process>
<Process Date="20200701" Name="" Time="115727" ToolSource="c:\program files\arcgis\pro\Resources\ArcToolbox\toolboxes\Data Management Tools.tbx\CalculateStatistics" export="">CalculateStatistics \\gisimg-test\Shared\Data\elevation.gdb\DEM_2020_1m 1 1 # OVERWRITE "Feature Set"</Process>
</lineage>
<itemProps>
<itemName Sync="TRUE">DEM_2020_1m</itemName>
<itemLocation>
<linkage Sync="TRUE">file://\\gisimg-test\Shared\Data\elevation.gdb</linkage>
<protocol Sync="TRUE">Local Area Network</protocol>
</itemLocation>
<nativeExtBox>
<westBL Sync="TRUE">1887520.000000</westBL>
<eastBL Sync="TRUE">1913920.000000</eastBL>
<southBL Sync="TRUE">5674560.000000</southBL>
<northBL Sync="TRUE">5818560.000000</northBL>
<exTypeCode Sync="TRUE">1</exTypeCode>
</nativeExtBox>
</itemProps>
<coordRef>
<type Sync="TRUE">Projected</type>
<geogcsn Sync="TRUE">GCS_NZGD_2000</geogcsn>
<csUnits Sync="TRUE">Linear Unit: Meter (1.000000)</csUnits>
<projcsn Sync="TRUE">NZGD_2000_New_Zealand_Transverse_Mercator</projcsn>
<peXml Sync="TRUE">&lt;ProjectedCoordinateSystem xsi:type='typens:ProjectedCoordinateSystem' xmlns:xsi='http://www.w3.org/2001/XMLSchema-instance' xmlns:xs='http://www.w3.org/2001/XMLSchema' xmlns:typens='http://www.esri.com/schemas/ArcGIS/2.5.0'&gt;&lt;WKT&gt;PROJCS[&amp;quot;NZGD_2000_New_Zealand_Transverse_Mercator&amp;quot;,GEOGCS[&amp;quot;GCS_NZGD_2000&amp;quot;,DATUM[&amp;quot;D_NZGD_2000&amp;quot;,SPHEROID[&amp;quot;GRS_1980&amp;quot;,6378137.0,298.257222101]],PRIMEM[&amp;quot;Greenwich&amp;quot;,0.0],UNIT[&amp;quot;Degree&amp;quot;,0.0174532925199433]],PROJECTION[&amp;quot;Transverse_Mercator&amp;quot;],PARAMETER[&amp;quot;False_Easting&amp;quot;,1600000.0],PARAMETER[&amp;quot;False_Northing&amp;quot;,10000000.0],PARAMETER[&amp;quot;Central_Meridian&amp;quot;,173.0],PARAMETER[&amp;quot;Scale_Factor&amp;quot;,0.9996],PARAMETER[&amp;quot;Latitude_Of_Origin&amp;quot;,0.0],UNIT[&amp;quot;Meter&amp;quot;,1.0],AUTHORITY[&amp;quot;EPSG&amp;quot;,2193]]&lt;/WKT&gt;&lt;XOrigin&gt;-4020900&lt;/XOrigin&gt;&lt;YOrigin&gt;1900&lt;/YOrigin&gt;&lt;XYScale&gt;450445547.3910538&lt;/XYScale&gt;&lt;ZOrigin&gt;-100000&lt;/ZOrigin&gt;&lt;ZScale&gt;10000&lt;/ZScale&gt;&lt;MOrigin&gt;-100000&lt;/MOrigin&gt;&lt;MScale&gt;10000&lt;/MScale&gt;&lt;XYTolerance&gt;0.001&lt;/XYTolerance&gt;&lt;ZTolerance&gt;0.001&lt;/ZTolerance&gt;&lt;MTolerance&gt;0.001&lt;/MTolerance&gt;&lt;HighPrecision&gt;true&lt;/HighPrecision&gt;&lt;WKID&gt;2193&lt;/WKID&gt;&lt;LatestWKID&gt;2193&lt;/LatestWKID&gt;&lt;/ProjectedCoordinateSystem&gt;</peXml>
</coordRef>
<RasterProperties>
<General>
<PixelDepth Sync="TRUE">32</PixelDepth>
<HasColormap Sync="TRUE">FALSE</HasColormap>
<CompressionType Sync="TRUE">None</CompressionType>
<NumBands Sync="TRUE">1</NumBands>
<Format Sync="TRUE">AMD</Format>
<HasPyramids Sync="TRUE">TRUE</HasPyramids>
<SourceType Sync="TRUE">continuous</SourceType>
<PixelType Sync="TRUE">floating point</PixelType>
<NoDataValue Sync="TRUE"/>
</General>
<Properties>
<MaxImageHeight Sync="TRUE">4100</MaxImageHeight>
<MaxImageWidth Sync="TRUE">15000</MaxImageWidth>
<MaxRecordCount Sync="TRUE">1000</MaxRecordCount>
<MaxDownloadImageCount Sync="TRUE">20</MaxDownloadImageCount>
<MaxDownloadSizeLimit Sync="TRUE">2048</MaxDownloadSizeLimit>
<MaxMosaicImageCount Sync="TRUE">20</MaxMosaicImageCount>
<DefaultCompressionQuality Sync="TRUE">75</DefaultCompressionQuality>
<DefaultCompressionTolerance Sync="TRUE">0.01</DefaultCompressionTolerance>
<BlendWidth Sync="TRUE">10</BlendWidth>
<ViewpointSpacingX Sync="TRUE">600</ViewpointSpacingX>
<ViewpointSpacingY Sync="TRUE">300</ViewpointSpacingY>
<AllowedItemMetadata Sync="TRUE">Basic</AllowedItemMetadata>
<DefaultResamplingMethod Sync="TRUE">1</DefaultResamplingMethod>
<AllowedMosaicMethods Sync="TRUE">NorthWest,Center,LockRaster,ByAttribute,Nadir,Viewpoint,Seamline,None</AllowedMosaicMethods>
<AllowedCompressions Sync="TRUE">None,JPEG,LZ77,LERC</AllowedCompressions>
<AllowedMensurationCapabilities Sync="TRUE">None</AllowedMensurationCapabilities>
<AvailableMensurationCapabilities Sync="TRUE">None,Basic,Base-Top Height,Top-Top Shadow Height,Base-Top Shadow Height,3D</AvailableMensurationCapabilities>
<ClipToBoundary Sync="TRUE">-1</ClipToBoundary>
<FootprintMayContainNoData Sync="TRUE">-1</FootprintMayContainNoData>
<CellSizeTolerance Sync="TRUE">0.8</CellSizeTolerance>
<MinimumPixelContribution Sync="TRUE">1</MinimumPixelContribution>
<AvailableMosaicMethods Sync="TRUE">NorthWest,Center,LockRaster,ByAttribute,Nadir,Viewpoint,Seamline,None</AvailableMosaicMethods>
<AvailableCompressionMethods Sync="TRUE">None,JPEG,LZ77,LERC</AvailableCompressionMethods>
<AvailableItemMetadataLevels Sync="TRUE">None,Basic,Full</AvailableItemMetadataLevels>
<BandDefinitionKeyword Sync="TRUE">CUSTOM</BandDefinitionKeyword>
<_docversion_ Sync="TRUE">10</_docversion_>
<AllowedFields Sync="TRUE">Name,MinPS,MaxPS,LowPS,HighPS,Tag,GroupName,ProductName,CenterX,CenterY,ZOrder,Shape_Length,Shape_Area</AllowedFields>
<MaxCellSize Sync="TRUE">12150</MaxCellSize>
<LowCellSize Sync="TRUE">1</LowCellSize>
<HighCellSize Sync="TRUE">243</HighCellSize>
<PixelCacheLocation Sync="TRUE">C:\Users\simonal\AppData\Local\Temp\ArcGISPro4616\DEM_2020_1m</PixelCacheLocation>
</Properties>
<Functions Sync="TRUE">
<Function Description="Performs on-the-fly mosaic on a raster catalog." Name="Mosaic Function"/>
</Functions>
</RasterProperties>
</DataProperties>
<scaleRange>
<minScale>150000000</minScale>
<maxScale>5000</maxScale>
</scaleRange>
<SyncDate>20200701</SyncDate>
<SyncTime>11363200</SyncTime>
<ModDate>20200702</ModDate>
<ModTime>13581900</ModTime>
</Esri>
<mdLang>
<languageCode Sync="TRUE" value="eng"/>
<countryCode Sync="TRUE" value="NZL"/>
</mdLang>
<mdHrLv>
<ScopeCd value="005"/>
</mdHrLv>
<mdDateSt Sync="TRUE">20200702</mdDateSt>
<dataIdInfo>
<idPurp>AAM was engaged by Bay of Plenty Regional Council to undertake acquisition and processing of Imagery over Maketu &amp; Little Waihi and Frost Flats Heathlands....</idPurp>
<idAbs>&lt;DIV STYLE="text-align:Left;"&gt;&lt;DIV&gt;&lt;DIV&gt;&lt;P&gt;&lt;SPAN STYLE="font-weight:bold;"&gt;Please read Project Reports &lt;/SPAN&gt;&lt;SPAN STYLE="font-weight:bold;"&gt;PRJ36500NON01&lt;/SPAN&gt;&lt;SPAN STYLE="font-weight:bold;"&gt; &lt;/SPAN&gt;&lt;SPAN STYLE="font-weight:bold;"&gt;(Objective Ref: &lt;/SPAN&gt;&lt;A href="https://objective.envbop.net/id:A3550027/document/versions/published" STYLE="text-decoration:underline;"&gt;&lt;SPAN STYLE="font-weight:bold;"&gt;A3550027&lt;/SPAN&gt;&lt;/A&gt;&lt;SPAN STYLE="font-weight:bold;"&gt;) and &lt;/SPAN&gt;&lt;SPAN STYLE="font-weight:bold;"&gt;PRJ36500NO&lt;/SPAN&gt;&lt;SPAN STYLE="font-weight:bold;"&gt;N02&lt;/SPAN&gt;&lt;SPAN STYLE="font-weight:bold;"&gt; &lt;/SPAN&gt;&lt;SPAN STYLE="font-weight:bold;"&gt;(Objective Ref: &lt;/SPAN&gt;&lt;A href="https://objective.envbop.net/id:A3550026/document/versions/published" STYLE="text-decoration:underline;"&gt;&lt;SPAN STYLE="font-weight:bold;"&gt;A3550026&lt;/SPAN&gt;&lt;/A&gt;&lt;SPAN STYLE="font-weight:bold;"&gt;) for complete metadata.&lt;/SPAN&gt;&lt;/P&gt;&lt;P&gt;&lt;SPAN /&gt;&lt;SPAN /&gt;&lt;/P&gt;&lt;P&gt;&lt;SPAN STYLE="font-weight:bold;"&gt;Acquisition&lt;/SPAN&gt;&lt;SPAN STYLE="font-weight:bold;"&gt; &lt;/SPAN&gt;&lt;SPAN STYLE="font-weight:bold;"&gt;(&lt;/SPAN&gt;&lt;SPAN STYLE="font-weight:bold;"&gt;PRJ36500NON01&lt;/SPAN&gt;&lt;SPAN STYLE="font-weight:bold;"&gt;- Kaituna Wetland, Maketu, Little Waihi&lt;/SPAN&gt;&lt;SPAN STYLE="font-weight:bold;"&gt;)&lt;/SPAN&gt;&lt;SPAN STYLE="font-weight:bold;"&gt;: &lt;/SPAN&gt;&lt;SPAN /&gt;&lt;/P&gt;&lt;P&gt;&lt;SPAN&gt;Acquisition of Imagery occurred on 20th January 2020, airborne LiDAR data was&lt;/SPAN&gt;&lt;SPAN&gt; &lt;/SPAN&gt;&lt;SPAN&gt;captured concurrently with the Imagery and used as the orthophoto DEM. Trajectories supplied&lt;/SPAN&gt;&lt;SPAN&gt; &lt;/SPAN&gt;&lt;SPAN&gt;in the ancillary folder of this volume contain date and time information specific to the areas&lt;/SPAN&gt;&lt;SPAN&gt; &lt;/SPAN&gt;&lt;SPAN&gt;supplied.&lt;/SPAN&gt;&lt;/P&gt;&lt;P&gt;&lt;SPAN /&gt;&lt;SPAN /&gt;&lt;/P&gt;&lt;P&gt;&lt;SPAN STYLE="font-weight:bold;"&gt;Acquisition&lt;/SPAN&gt;&lt;SPAN STYLE="font-weight:bold;"&gt; &lt;/SPAN&gt;&lt;SPAN STYLE="font-weight:bold;"&gt;(&lt;/SPAN&gt;&lt;SPAN STYLE="font-weight:bold;"&gt;PRJ36500NO&lt;/SPAN&gt;&lt;SPAN STYLE="font-weight:bold;"&gt;N02 - Frost flats)&lt;/SPAN&gt;&lt;SPAN STYLE="font-weight:bold;"&gt;: &lt;/SPAN&gt;&lt;SPAN /&gt;&lt;/P&gt;&lt;P&gt;&lt;SPAN&gt;Acquisition of Imagery occurred on 23rd, 25th, 27th January and 3rd February 2020.&lt;/SPAN&gt;&lt;SPAN&gt; &lt;/SPAN&gt;&lt;SPAN&gt;Airborne LiDAR data was captured concurrently with the Imagery and used as the orthophoto&lt;/SPAN&gt;&lt;SPAN&gt; &lt;/SPAN&gt;&lt;SPAN&gt;DEM. Trajectories supplied in the ancillary folder of this volume contain date and time&lt;/SPAN&gt;&lt;SPAN STYLE="font-size:14pt"&gt; &lt;/SPAN&gt;&lt;SPAN STYLE="font-size:12pt"&gt;information specific to the areas supplied.&lt;/SPAN&gt;&lt;/P&gt;&lt;P&gt;&lt;SPAN /&gt;&lt;SPAN /&gt;&lt;/P&gt;&lt;P&gt;&lt;SPAN STYLE="font-weight:bold;"&gt;&lt;SPAN&gt;Ground Support: &lt;/SPAN&gt;&lt;/SPAN&gt;&lt;SPAN /&gt;&lt;/P&gt;&lt;P&gt;&lt;SPAN&gt;RTX processing was used to calculate the GPS trajectory solution. Trimble&lt;/SPAN&gt;&lt;SPAN&gt; &lt;/SPAN&gt;&lt;SPAN&gt;CenterPointR RTX™ is a proprietary GPS, GLONASS, BeiDou, and QZSS enabled technology&lt;/SPAN&gt;&lt;SPAN&gt; &lt;/SPAN&gt;&lt;SPAN&gt;that provides high-accuracy GNSS positioning worldwide without the use of traditional local&lt;/SPAN&gt;&lt;SPAN&gt; &lt;/SPAN&gt;&lt;SPAN&gt;base stations or a VRS network. By combining real-time data from a global reference station&lt;/SPAN&gt;&lt;SPAN&gt; &lt;/SPAN&gt;&lt;SPAN&gt;infrastructure with innovative positioning and compression algorithms, Trimble RTX technology&lt;/SPAN&gt;&lt;SPAN&gt; &lt;/SPAN&gt;&lt;SPAN&gt;computes centimeter-level positions based on satellite orbit and clock information.&lt;/SPAN&gt;&lt;SPAN&gt; &lt;/SPAN&gt;&lt;SPAN&gt;Ground control was surveyed by Sounds Surveying in early 2019 was used to assist in control&lt;/SPAN&gt;&lt;SPAN&gt; &lt;/SPAN&gt;&lt;SPAN&gt;for the imagery.&lt;/SPAN&gt;&lt;/P&gt;&lt;P&gt;&lt;SPAN /&gt;&lt;SPAN /&gt;&lt;/P&gt;&lt;P&gt;&lt;SPAN STYLE="font-weight:bold;"&gt;&lt;SPAN&gt;Data Processing: &lt;/SPAN&gt;&lt;/SPAN&gt;&lt;SPAN /&gt;&lt;/P&gt;&lt;P&gt;&lt;SPAN&gt;The RGB orthophotos are supplied at 10cm gsd. The imagery was&lt;/SPAN&gt;&lt;SPAN&gt; &lt;/SPAN&gt;&lt;SPAN&gt;georeferenced with airborne reference data and surveyed ground control, using aero&lt;/SPAN&gt;&lt;SPAN&gt; &lt;/SPAN&gt;&lt;SPAN&gt;triangulation. Ortho-rectification utilised the LiDAR digital terrain model, and a combination of&lt;/SPAN&gt;&lt;SPAN&gt; &lt;/SPAN&gt;&lt;SPAN&gt;automated and manual seamline placement.&lt;/SPAN&gt;&lt;SPAN&gt; &lt;/SPAN&gt;&lt;SPAN&gt;Laser strikes were classified into default, ground using a single algorithm across the project&lt;/SPAN&gt;&lt;SPAN&gt; &lt;/SPAN&gt;&lt;SPAN&gt;area. No manual editing was performed. The ground points were used for orthorectification of&lt;/SPAN&gt;&lt;SPAN STYLE="font-size:14pt"&gt; &lt;/SPAN&gt;&lt;SPAN STYLE="font-size:12pt"&gt;the imagery, and supplied in this volume as DEM.&lt;/SPAN&gt;&lt;/P&gt;&lt;/DIV&gt;&lt;/DIV&gt;&lt;/DIV&gt;</idAbs>
<idCredit>AAM, Bay of Plenty Regional Council</idCredit>
<idCitation>
<resTitle>DEM_2020_1m</resTitle>
<presForm>
<PresFormCd Sync="TRUE" value="005"/>
</presForm>
</idCitation>
<searchKeys>
<keyword>Elevation</keyword>
<keyword>model</keyword>
<keyword>NZVD2016</keyword>
<keyword>LiDAR DEM</keyword>
<keyword>1m</keyword>
<keyword>Kaituna wetland</keyword>
<keyword>Maketu</keyword>
<keyword>Little Waihi</keyword>
<keyword>Frost flats</keyword>
</searchKeys>
<dataExt>
<geoEle>
<GeoBndBox esriExtentType="search">
<westBL Sync="TRUE">176.262667</westBL>
<eastBL Sync="TRUE">176.625888</eastBL>
<northBL Sync="TRUE">-37.726454</northBL>
<southBL Sync="TRUE">-39.030747</southBL>
</GeoBndBox>
</geoEle>
</dataExt>
<resMaint>
<maintFreq>
<MaintFreqCd value="009"/>
</maintFreq>
</resMaint>
<envirDesc Sync="TRUE">Microsoft Windows 7 Version 6.1 (Build 7601) Service Pack 1; Esri ArcGIS 12.5.1.22081</envirDesc>
<dataLang>
<languageCode Sync="TRUE" value="eng"/>
<countryCode Sync="TRUE" value="NZL"/>
</dataLang>
<spatRpType>
<SpatRepTypCd Sync="TRUE" value="002"/>
</spatRpType>
<resConst>
<Consts>
<useLimit>&lt;DIV STYLE="text-align:Left;"&gt;&lt;P STYLE="text-align:Justify;margin:7 0 7 0;"&gt;&lt;SPAN STYLE="font-style:italic;"&gt;&lt;SPAN&gt;Copyright ©. This copyright work is licensed under the Creative Commons Attribution 3.0 New Zealand Licence. In essence, you are free to copy, distribute and adapt the work, as long as you attribute the work to Bay of Plenty Regional Council  and abide by the other licence terms. To view a copy of this licence, visit &lt;/SPAN&gt;&lt;/SPAN&gt;&lt;A href="http://creativecommons.org/licenses/by/3.0/nz/" STYLE="text-decoration:underline;"&gt;&lt;SPAN STYLE="font-style:italic;text-decoration:underline;"&gt;&lt;SPAN&gt;http://creativecommons.org/licenses/by/3.0/nz/&lt;/SPAN&gt;&lt;/SPAN&gt;&lt;/A&gt;&lt;SPAN STYLE="font-style:italic;"&gt;&lt;SPAN&gt;. &lt;/SPAN&gt;&lt;/SPAN&gt;&lt;/P&gt;&lt;P STYLE="margin:0 0 0 0;"&gt;&lt;SPAN STYLE="font-style:italic;"&gt;&lt;SPAN&gt;If you do not accept the terms of the Creative Commons Licence 3.0 BY then please delete this email and do not download the data.&lt;/SPAN&gt;&lt;/SPAN&gt;&lt;/P&gt;&lt;DIV&gt;&lt;P&gt;&lt;SPAN /&gt;&lt;/P&gt;&lt;/DIV&gt;&lt;/DIV&gt;</useLimit>
</Consts>
</resConst>
</dataIdInfo>
<spatRepInfo>
<Georect>
<cellGeo>
<CellGeoCd Sync="TRUE" value="002"/>
</cellGeo>
<numDims Sync="TRUE">2</numDims>
<tranParaAv Sync="TRUE">1</tranParaAv>
<chkPtAv Sync="TRUE">0</chkPtAv>
<cornerPts>
<pos Sync="TRUE">1887520.000000 5674560.000000</pos>
</cornerPts>
<cornerPts>
<pos Sync="TRUE">1887520.000000 5818560.000000</pos>
</cornerPts>
<cornerPts>
<pos Sync="TRUE">1913920.000000 5818560.000000</pos>
</cornerPts>
<cornerPts>
<pos Sync="TRUE">1913920.000000 5674560.000000</pos>
</cornerPts>
<centerPt>
<pos Sync="TRUE">1900720.000000 5746560.000000</pos>
</centerPt>
<axisDimension type="002">
<dimSize Sync="TRUE">26400</dimSize>
<dimResol>
<value Sync="TRUE" uom="m">1.000000</value>
</dimResol>
</axisDimension>
<axisDimension type="001">
<dimSize Sync="TRUE">144000</dimSize>
<dimResol>
<value Sync="TRUE" uom="m">1.000000</value>
</dimResol>
</axisDimension>
<ptInPixel>
<PixOrientCd Sync="TRUE" value="001"/>
</ptInPixel>
</Georect>
</spatRepInfo>
<refSysInfo>
<RefSystem>
<refSysID>
<identCode Sync="TRUE" code="2193"/>
<idCodeSpace Sync="TRUE">EPSG</idCodeSpace>
<idVersion Sync="TRUE">7.9.4(9.0.0)</idVersion>
</refSysID>
</RefSystem>
</refSysInfo>
<contInfo>
<ImgDesc>
<contentTyp>
<ContentTypCd Sync="TRUE" value="001"/>
</contentTyp>
<covDim>
<Band>
<dimDescrp Sync="TRUE">Band_1</dimDescrp>
<maxVal Sync="TRUE">11.233223</maxVal>
<minVal Sync="TRUE">0.126777</minVal>
<bitsPerVal Sync="TRUE">32</bitsPerVal>
<valUnit>
<UOM type="length"/>
</valUnit>
</Band>
</covDim>
</ImgDesc>
</contInfo>
</metadata>
