{ "currentVersion": 11.5, "serviceDescription": "
LiDAR was captured for BOPLASS Ltd by Aerial Surveys from 27 October 2019 to 24 October 2022.  <\/span><\/div>
<\/span><\/div>
This Image Service contains the Digital Elevation Model (DEM) processed from the ground LiDAR point cloud, including DEM tiles from neighboring regions.<\/span><\/div><\/div><\/div>
<\/span><\/div>
BOPRC Provincial Groth Fund (PGF) LiDAR Block 1-4 were combined into a single mosaic dataset from Block 1 (Western Bay of Plenty/TCC/Offshore Islands), 2 (Whakatane/Offshore Islands), 3 (Rotorua), and 4 (Opotiki/Offshore Islands). These areas are available for download on the LINZ Data Service. <\/span>https://data.linz.govt.nz/layer/105690-bay-of-plenty-lidar-1m-dem-2019-2022/ <\/a> <\/span>
<\/font><\/div>
<\/span><\/div>
The purposeful extent of this Bay of Plenty Regional Council (BOPRC) elevation layer is the same as its sister DSM which tends to cover all surface water catchments within the BOPRC Region as depicted from the Draft National Policy Statement for Freshwater Management (NPSFM) Freshwater Management Unit (FMU) boundaries https://maps.boprc.govt.nz/datasets/BOPRC::freshwater-management-units-draft<\/a> aligned to NIWA REC 2.4 boundaries https://www.arcgis.com/home/item.html?id=28d23ad94c2a4846b7634f4cdbba178f<\/a>.<\/div>
Outer region DEM tiles and additional Taupo District elevation tiles falling within the BOPRC region were kindly supplied by the adjacent regions/territorial local authorities (Waikato Regional Council, Gisborne District Council, and Hawkes Bay Regional Council) or acquired directly through the Land Information New Zealand (LINZ) Data Service.<\/font><\/div>
<\/div><\/span><\/div>
Because the outer-region tiles originated from a different batch/source of processed elevation models, edge artifact and slight discrepancies maybe visible. This will be fixed when National LiDAR point cloud derived surfaces are developed and made available for the tiles between different region captures.<\/span>
<\/span><\/div>
<\/span><\/div>
General specifications across this dataset included:<\/span>
<\/div>
<\/span><\/div>
- Pulse density specification is at a minimum of >4 pulses/square meter.<\/span>
<\/p>
- Vertical Accuracy Specification is +/- 0.2m (95%)<\/span><\/p>
- Horizontal Accuracy Specification is +/- 1.0m (95%)<\/span><\/p>
Vertical datum is NZVD2016.  Projection/Coordinate System: New Zealand Transverse Mercator (NZTM).<\/span><\/p><\/div>
The Digital Surface Model (DSM) which includes ground heights is available from the LINZ Data Service at <\/font>https://data.linz.govt.nz/layer/105691-bay-of-plenty-lidar-1m-dsm-2019-2022/<\/a> The LAS point cloud and vendor project reports are available from <\/font>OpenTopography.org<\/a> <\/font>https://portal.opentopography.org/datasetMetadata?otCollectionID=OT.082021.2193.1<\/a>  <\/font>
<\/div>
The Elevation Aotearoa story map hosted by LINZ is an excellent resource and can be used to learn about use cases of LiDAR and how to use make the most use of it. <\/span>https://linz.maps.arcgis.com/apps/MapSeries/index.html?appid=2552c3a5cee24f7b87806b085c3fee8a<\/a><\/font><\/p>
<\/span><\/p>
Please see the below <\/span>extended metadata series <\/span>for additional details and specs related to this dataset and underlying source LiDAR point cloud data. This section also lists where the source data resides.<\/span>
<\/p>
Vendor Survey Reports: <\/span>https://object.cloud.sdsc.edu/v1/AUTH_opentopography/www/metadata/NZ20_BoP_metadata.pdf<\/span><\/a> <\/span><\/p>
Vendor LAS validation reports: <\/span>https://object.cloud.sdsc.edu/v1/AUTH_opentopography/www/metadata/NZ20_BoP_metadata.pdf<\/span><\/a><\/p>
---------------------------------------------------------------------------------------------------------------------------------------------------------------------------------------------------
<\/p>
This high-quality LiDAR data is also consumed in an Eagle hosted NZ Elevation layer on the ESRI living atlas of NZ and also in the World Terrain elevation layer on the ESRI world living atlas. Consider using these image services in your workflows as supplementary as they may be faster and provide different functionality at different spatial scales. For use in 3d apps and basemaps, consider using the tile layers.<\/p>
<\/span><\/p>
Eagle ESRI NZ Elevation Layer: <\/span>https://services1.arcgisonline.co.nz/arcgis/rest/services/Elevation/New_Zealand_Elevation/ImageServer<\/span><\/a><\/p>
ESRI Living Atlas World Terrain elevation layer: https://elevation.arcgis.com/arcgis/rest/services/WorldElevation/Terrain/ImageServer<\/a>
<\/p>
<\/span><\/p>
<\/span><\/p>
Any queries<\/span> about accessing additional related data<\/span> or<\/span> if you experience any<\/span> problems accessing anything, contact the BOPRC Geospatial team at <\/span>https://www.boprc.govt.nz/your-council/contact-us<\/a><\/p>
<\/span><\/p>
<\/span><\/p><\/div>", "serviceItemId": "af4546fba5124411b1dfbbb79ca18c17", "name": "elevation/DEM_2019_2022_1m_BOPRegion_NZVD2016", "description": "

LiDAR was captured for BOPLASS Ltd by Aerial Surveys from 27 October 2019 to 24 October 2022.  <\/span><\/div>
<\/span><\/div>
This Image Service contains the Digital Elevation Model (DEM) processed from the ground LiDAR point cloud, including DEM tiles from neighboring regions.<\/span><\/div><\/div><\/div>
<\/span><\/div>
BOPRC Provincial Groth Fund (PGF) LiDAR Block 1-4 were combined into a single mosaic dataset from Block 1 (Western Bay of Plenty/TCC/Offshore Islands), 2 (Whakatane/Offshore Islands), 3 (Rotorua), and 4 (Opotiki/Offshore Islands). These areas are available for download on the LINZ Data Service. <\/span>https://data.linz.govt.nz/layer/105690-bay-of-plenty-lidar-1m-dem-2019-2022/ <\/a> <\/span>
<\/font><\/div>
<\/span><\/div>
The purposeful extent of this Bay of Plenty Regional Council (BOPRC) elevation layer is the same as its sister DSM which tends to cover all surface water catchments within the BOPRC Region as depicted from the Draft National Policy Statement for Freshwater Management (NPSFM) Freshwater Management Unit (FMU) boundaries https://maps.boprc.govt.nz/datasets/BOPRC::freshwater-management-units-draft<\/a> aligned to NIWA REC 2.4 boundaries https://www.arcgis.com/home/item.html?id=28d23ad94c2a4846b7634f4cdbba178f<\/a>.<\/div>
Outer region DEM tiles and additional Taupo District elevation tiles falling within the BOPRC region were kindly supplied by the adjacent regions/territorial local authorities (Waikato Regional Council, Gisborne District Council, and Hawkes Bay Regional Council) or acquired directly through the Land Information New Zealand (LINZ) Data Service.<\/font><\/div>
<\/div><\/span><\/div>
Because the outer-region tiles originated from a different batch/source of processed elevation models, edge artifact and slight discrepancies maybe visible. This will be fixed when National LiDAR point cloud derived surfaces are developed and made available for the tiles between different region captures.<\/span>
<\/span><\/div>
<\/span><\/div>
General specifications across this dataset included:<\/span>
<\/div>
<\/span><\/div>
- Pulse density specification is at a minimum of >4 pulses/square meter.<\/span>
<\/p>
- Vertical Accuracy Specification is +/- 0.2m (95%)<\/span><\/p>
- Horizontal Accuracy Specification is +/- 1.0m (95%)<\/span><\/p>
Vertical datum is NZVD2016.  Projection/Coordinate System: New Zealand Transverse Mercator (NZTM).<\/span><\/p><\/div>
The Digital Surface Model (DSM) which includes ground heights is available from the LINZ Data Service at <\/font>https://data.linz.govt.nz/layer/105691-bay-of-plenty-lidar-1m-dsm-2019-2022/<\/a> The LAS point cloud and vendor project reports are available from <\/font>OpenTopography.org<\/a> <\/font>https://portal.opentopography.org/datasetMetadata?otCollectionID=OT.082021.2193.1<\/a>  <\/font>
<\/div>
The Elevation Aotearoa story map hosted by LINZ is an excellent resource and can be used to learn about use cases of LiDAR and how to use make the most use of it. <\/span>https://linz.maps.arcgis.com/apps/MapSeries/index.html?appid=2552c3a5cee24f7b87806b085c3fee8a<\/a><\/font><\/p>
<\/span><\/p>
Please see the below <\/span>extended metadata series <\/span>for additional details and specs related to this dataset and underlying source LiDAR point cloud data. This section also lists where the source data resides.<\/span>
<\/p>
Vendor Survey Reports: <\/span>https://object.cloud.sdsc.edu/v1/AUTH_opentopography/www/metadata/NZ20_BoP_metadata.pdf<\/span><\/a> <\/span><\/p>
Vendor LAS validation reports: <\/span>https://object.cloud.sdsc.edu/v1/AUTH_opentopography/www/metadata/NZ20_BoP_metadata.pdf<\/span><\/a><\/p>
---------------------------------------------------------------------------------------------------------------------------------------------------------------------------------------------------
<\/p>
This high-quality LiDAR data is also consumed in an Eagle hosted NZ Elevation layer on the ESRI living atlas of NZ and also in the World Terrain elevation layer on the ESRI world living atlas. Consider using these image services in your workflows as supplementary as they may be faster and provide different functionality at different spatial scales. For use in 3d apps and basemaps, consider using the tile layers.<\/p>
<\/span><\/p>
Eagle ESRI NZ Elevation Layer: <\/span>https://services1.arcgisonline.co.nz/arcgis/rest/services/Elevation/New_Zealand_Elevation/ImageServer<\/span><\/a><\/p>
ESRI Living Atlas World Terrain elevation layer: https://elevation.arcgis.com/arcgis/rest/services/WorldElevation/Terrain/ImageServer<\/a>
<\/p>
<\/span><\/p>
<\/span><\/p>
Any queries<\/span> about accessing additional related data<\/span> or<\/span> if you experience any<\/span> problems accessing anything, contact the BOPRC Geospatial team at <\/span>https://www.boprc.govt.nz/your-council/contact-us<\/a><\/p>
<\/span><\/p>
<\/span><\/p><\/div>", "extent": { "xmin": 1847200, "ymin": 5676720, "xmax": 2056960, "ymax": 5871120, "spatialReference": { "wkid": 2193, "latestWkid": 2193, "vcsWkid": 7839, "latestVcsWkid": 7839 } }, "initialExtent": { "xmin": 1847200, "ymin": 5676720, "xmax": 2056960, "ymax": 5871120, "spatialReference": { "wkid": 2193, "latestWkid": 2193, "vcsWkid": 7839, "latestVcsWkid": 7839 } }, "fullExtent": { "xmin": 1847200, "ymin": 5676720, "xmax": 2056960, "ymax": 5871120, "spatialReference": { "wkid": 2193, "latestWkid": 2193, "vcsWkid": 7839, "latestVcsWkid": 7839 } }, "sortableFields": "MinPS,MaxPS,LowPS,HighPS,CenterX,CenterY,ZOrder,Shape_Length,Shape_Area", "heightModelInfo": { "heightModel": "gravity_related_height", "vertCRS": "NZVD2016_height", "heightUnit": "meter" }, "bandCount": 1, "pixelType": "F32", "minValues": [ -46.85100173950195 ], "maxValues": [ 1596.3709716796875 ], "meanValues": [ 374.1403906120165 ], "stdvValues": [ 255.52622133250884 ], "serviceProperties": "NorthWest<\/MosaicMethod>First<\/MosaicOperator>true<\/SortAscending><\/LockImageID>Name<\/TileOrderField>0<\/TileOrderBase>600.000000<\/AvgImageSpacingX>300.000000<\/AvgImageSpacingY>0.0<\/ViewPointX>0.0<\/ViewPointY>0.0<\/ViewPointDefShiftX>0.0<\/ViewPointDefShiftY>LERC<\/CompressionMethod>75<\/CompressionQuality>0.010000<\/CompressionTolerance>Bilinear<\/SamplingMethod><\/ImageServiceProperties><\/ImageServer>", "allowedFields": "Name,MinPS,MaxPS,LowPS,HighPS,Tag,GroupName,ProductName,CenterX,CenterY,ZOrder,Shape_Length,Shape_Area", "hasMultidimensions": false, "pixelSizeX": 1, "pixelSizeY": 1, "meanPixelSize": 1, "datasetFormat": "AMD", "uncompressedSize": 163109376000, "blockWidth": 2048, "blockHeight": 256, "compressionType": "None", "bandNames": [ "Band_1" ], "allowCopy": true, "allowAnalysis": true, "itemAccess": false, "inspectionCapabilities": "", "noDataValue": -9999, "noDataValues": [ -9999 ], "minPixelSize": 0, "maxPixelSize": 0, "copyrightText": "Bay of Plenty Regional Council, BOPLASS, LINZ, Waikato Regional Council, Gisborne District Council, Hawkes Bay Regional Council", "serviceDataType": "esriImageServiceDataTypeElevation", "serviceSourceType": "esriImageServiceSourceTypeMosaicDataset", "objectIdField": "OBJECTID", "fields": [ { "name": "OBJECTID", "type": "esriFieldTypeOID", "alias": "OBJECTID", "domain": null }, { "name": "Shape", "type": "esriFieldTypeGeometry", "alias": "Shape", "domain": null }, { "name": "Name", "type": "esriFieldTypeString", "alias": "Name", "domain": null, "length": 200 }, { "name": "MinPS", "type": "esriFieldTypeDouble", "alias": "MinPS", "domain": null }, { "name": "MaxPS", "type": "esriFieldTypeDouble", "alias": "MaxPS", "domain": null }, { "name": "LowPS", "type": "esriFieldTypeDouble", "alias": "LowPS", "domain": null }, { "name": "HighPS", "type": "esriFieldTypeDouble", "alias": "HighPS", "domain": null }, { "name": "Category", "type": "esriFieldTypeInteger", "alias": "Category", "domain": { "type": "codedValue", "name": "MosaicCatalogItemCategoryDomain", "description": "Catalog item categories.", "codedValues": [ { "name": "Unknown", "code": 0 }, { "name": "Primary", "code": 1 }, { "name": "Overview", "code": 2 }, { "name": "Unprocessed Overview", "code": 3 }, { "name": "Partial Overview", "code": 4 }, { "name": "Inactive", "code": 5 }, { "name": "Uploaded", "code": 253 }, { "name": "Incomplete", "code": 254 }, { "name": "Custom", "code": 255 } ], "mergePolicy": "esriMPTDefaultValue", "splitPolicy": "esriSPTDefaultValue" } }, { "name": "Tag", "type": "esriFieldTypeString", "alias": "Tag", "domain": null, "length": 100 }, { "name": "GroupName", "type": "esriFieldTypeString", "alias": "GroupName", "domain": null, "length": 100 }, { "name": "ProductName", "type": "esriFieldTypeString", "alias": "ProductName", "domain": null, "length": 100 }, { "name": "CenterX", "type": "esriFieldTypeDouble", "alias": "CenterX", "domain": null }, { "name": "CenterY", "type": "esriFieldTypeDouble", "alias": "CenterY", "domain": null }, { "name": "ZOrder", "type": "esriFieldTypeInteger", "alias": "ZOrder", "domain": null }, { "name": "Shape_Length", "type": "esriFieldTypeDouble", "alias": "Shape_Length", "domain": null }, { "name": "Shape_Area", "type": "esriFieldTypeDouble", "alias": "Shape_Area", "domain": null } ], "capabilities": "Catalog,Mensuration,Pixels,Image,Metadata", "defaultMosaicMethod": "Northwest", "allowedMosaicMethods": "NorthWest,Center,LockRaster,ByAttribute,Nadir,Viewpoint,Seamline,None", "sortField": "", "sortValue": null, "sortAscending": true, "mosaicOperator": "First", "maxDownloadSizeLimit": 2048, "defaultCompressionQuality": 10000, "defaultResamplingMethod": "Bilinear", "maxImageHeight": 4100, "maxImageWidth": 15000, "maxRecordCount": 1000, "maxDownloadImageCount": 20, "maxMosaicImageCount": 42, "allowRasterFunction": true, "rasterFunctionInfos": [ { "name": "None", "description": "Make a Raster or Raster Dataset into a Function Raster Dataset.", "help": "" } ], "rasterTypeInfos": [ { "name": "Raster Dataset", "description": "Supports all ArcGIS Raster Datasets", "help": "" } ], "mensurationCapabilities": "", "hasHistograms": true, "hasColormap": false, "hasRasterAttributeTable": false, "minScale": 0, "maxScale": 0, "exportTilesAllowed": false, "supportsStatistics": true, "supportsAdvancedQueries": true, "editFieldsInfo": null, "ownershipBasedAccessControlForRasters": null, "allowComputeTiePoints": false, "useStandardizedQueries": true, "advancedQueryCapabilities": { "useStandardizedQueries": true, "supportsStatistics": true, "supportsOrderBy": true, "supportsDistinct": true, "supportsPagination": true }, "spatialReference": { "wkid": 2193, "latestWkid": 2193, "vcsWkid": 7839, "latestVcsWkid": 7839 }, "resampling": false }