<?xml version="1.0" encoding="UTF-8" standalone="no"?>
<metadata xml:lang="en">
<Esri>
<CreaDate>20191204</CreaDate>
<CreaTime>10162100</CreaTime>
<ArcGISFormat>1.0</ArcGISFormat>
<SyncOnce>FALSE</SyncOnce>
<DataProperties>
<itemProps>
<itemName Sync="TRUE">AerialPhoto_2014</itemName>
<itemLocation>
<linkage Sync="TRUE">file://\\BRCSVGIST14\data\aerial.gdb</linkage>
<protocol Sync="TRUE">Local Area Network</protocol>
</itemLocation>
<nativeExtBox>
<westBL Sync="TRUE">1856319.999968</westBL>
<eastBL Sync="TRUE">1990239.999968</eastBL>
<southBL Sync="TRUE">5780399.999955</southBL>
<northBL Sync="TRUE">5858159.999955</northBL>
<exTypeCode Sync="TRUE">1</exTypeCode>
</nativeExtBox>
<imsContentType export="False">004</imsContentType>
</itemProps>
<coordRef>
<type Sync="TRUE">Projected</type>
<geogcsn Sync="TRUE">GCS_NZGD_2000</geogcsn>
<csUnits Sync="TRUE">Linear Unit: Meter (1.000000)</csUnits>
<projcsn Sync="TRUE">NZGD_2000_New_Zealand_Transverse_Mercator</projcsn>
<peXml Sync="TRUE">&lt;ProjectedCoordinateSystem xsi:type='typens:ProjectedCoordinateSystem' xmlns:xsi='http://www.w3.org/2001/XMLSchema-instance' xmlns:xs='http://www.w3.org/2001/XMLSchema' xmlns:typens='http://www.esri.com/schemas/ArcGIS/2.4.0'&gt;&lt;WKT&gt;PROJCS[&amp;quot;NZGD_2000_New_Zealand_Transverse_Mercator&amp;quot;,GEOGCS[&amp;quot;GCS_NZGD_2000&amp;quot;,DATUM[&amp;quot;D_NZGD_2000&amp;quot;,SPHEROID[&amp;quot;GRS_1980&amp;quot;,6378137.0,298.257222101]],PRIMEM[&amp;quot;Greenwich&amp;quot;,0.0],UNIT[&amp;quot;Degree&amp;quot;,0.0174532925199433]],PROJECTION[&amp;quot;Transverse_Mercator&amp;quot;],PARAMETER[&amp;quot;False_Easting&amp;quot;,1600000.0],PARAMETER[&amp;quot;False_Northing&amp;quot;,10000000.0],PARAMETER[&amp;quot;Central_Meridian&amp;quot;,173.0],PARAMETER[&amp;quot;Scale_Factor&amp;quot;,0.9996],PARAMETER[&amp;quot;Latitude_Of_Origin&amp;quot;,0.0],UNIT[&amp;quot;Meter&amp;quot;,1.0],AUTHORITY[&amp;quot;EPSG&amp;quot;,2193]]&lt;/WKT&gt;&lt;XOrigin&gt;-4020900&lt;/XOrigin&gt;&lt;YOrigin&gt;1900&lt;/YOrigin&gt;&lt;XYScale&gt;450445547.3910538&lt;/XYScale&gt;&lt;ZOrigin&gt;-100000&lt;/ZOrigin&gt;&lt;ZScale&gt;10000&lt;/ZScale&gt;&lt;MOrigin&gt;-100000&lt;/MOrigin&gt;&lt;MScale&gt;10000&lt;/MScale&gt;&lt;XYTolerance&gt;0.001&lt;/XYTolerance&gt;&lt;ZTolerance&gt;0.001&lt;/ZTolerance&gt;&lt;MTolerance&gt;0.001&lt;/MTolerance&gt;&lt;HighPrecision&gt;true&lt;/HighPrecision&gt;&lt;WKID&gt;2193&lt;/WKID&gt;&lt;LatestWKID&gt;2193&lt;/LatestWKID&gt;&lt;/ProjectedCoordinateSystem&gt;</peXml>
</coordRef>
<RasterProperties>
<General>
<PixelDepth Sync="TRUE">8</PixelDepth>
<HasColormap Sync="TRUE">FALSE</HasColormap>
<CompressionType Sync="TRUE">None</CompressionType>
<NumBands Sync="TRUE">3</NumBands>
<Format Sync="TRUE">AMD</Format>
<HasPyramids Sync="TRUE">TRUE</HasPyramids>
<SourceType Sync="TRUE">continuous</SourceType>
<PixelType Sync="TRUE">unsigned integer</PixelType>
<NoDataValue Sync="TRUE"/>
</General>
<Properties>
<MaxImageHeight Sync="TRUE">4100</MaxImageHeight>
<MaxImageWidth Sync="TRUE">15000</MaxImageWidth>
<MaxRecordCount Sync="TRUE">1000</MaxRecordCount>
<MaxDownloadImageCount Sync="TRUE">20</MaxDownloadImageCount>
<MaxDownloadSizeLimit Sync="TRUE">2048</MaxDownloadSizeLimit>
<MaxMosaicImageCount Sync="TRUE">20</MaxMosaicImageCount>
<DefaultCompressionQuality Sync="TRUE">75</DefaultCompressionQuality>
<DefaultCompressionTolerance Sync="TRUE">0.01</DefaultCompressionTolerance>
<BlendWidth Sync="TRUE">10</BlendWidth>
<ViewpointSpacingX Sync="TRUE">600</ViewpointSpacingX>
<ViewpointSpacingY Sync="TRUE">300</ViewpointSpacingY>
<AllowedItemMetadata Sync="TRUE">Basic</AllowedItemMetadata>
<DefaultResamplingMethod Sync="TRUE">1</DefaultResamplingMethod>
<AllowedMosaicMethods Sync="TRUE">NorthWest,Center,LockRaster,ByAttribute,Nadir,Viewpoint,Seamline,None</AllowedMosaicMethods>
<AllowedCompressions Sync="TRUE">None,JPEG,LZ77,LERC</AllowedCompressions>
<AllowedMensurationCapabilities Sync="TRUE">None</AllowedMensurationCapabilities>
<AvailableMensurationCapabilities Sync="TRUE">None,Basic,Base-Top Height,Top-Top Shadow Height,Base-Top Shadow Height,3D</AvailableMensurationCapabilities>
<ClipToBoundary Sync="TRUE">-1</ClipToBoundary>
<FootprintMayContainNoData Sync="TRUE">-1</FootprintMayContainNoData>
<CellSizeTolerance Sync="TRUE">0.8</CellSizeTolerance>
<MinimumPixelContribution Sync="TRUE">1</MinimumPixelContribution>
<AvailableMosaicMethods Sync="TRUE">NorthWest,Center,LockRaster,ByAttribute,Nadir,Viewpoint,Seamline,None</AvailableMosaicMethods>
<AvailableCompressionMethods Sync="TRUE">None,JPEG,LZ77,LERC</AvailableCompressionMethods>
<AvailableItemMetadataLevels Sync="TRUE">None,Basic,Full</AvailableItemMetadataLevels>
<ConfigKeyword Sync="TRUE"/>
<BandDefinitionKeyword Sync="TRUE">NaturalColor</BandDefinitionKeyword>
<AllowedFields Sync="TRUE">Name,MinPS,MaxPS,LowPS,HighPS,Tag,GroupName,ProductName,CenterX,CenterY,ZOrder,Shape.STArea(),Shape.STLength()</AllowedFields>
<MaxCellSize Sync="TRUE">27337.5</MaxCellSize>
<LowCellSize Sync="TRUE">0.125</LowCellSize>
<HighCellSize Sync="TRUE">546.75</HighCellSize>
<_docversion_ Sync="TRUE">9</_docversion_>
</Properties>
<Functions Sync="TRUE">
<Function Description="Performs on-the-fly mosaic on a raster catalog." Name="Mosaic Function"/>
</Functions>
</RasterProperties>
<lineage>
<Process Date="20191204" Time="101623" ToolSource="c:\program files\arcgis\pro\Resources\ArcToolbox\toolboxes\Data Management Tools.tbx\Copy">Copy "D:\projects\temp\brcsvsql02_raster_admin.sde\BOP_OrthoAerialsCoastal_2014 " D:\data\aerial.gdb\BOP_OrthoAerialsCoastal_2014 MosaicDataset "MosaicCatalogItemCategoryDomain 'CV domain' MosaicCatalogItemCategoryDomain_2 #"</Process>
<Process Date="20191204" Time="105425" ToolSource="c:\program files\arcgis\pro\Resources\ArcToolbox\toolboxes\Data Management Tools.tbx\Rename">Rename D:\data\aerial.gdb\BOP_OrthoAerialsCoastal_2014 D:\data\aerial.gdb\AerialPhoto_2014 MosaicDataset</Process>
</lineage>
</DataProperties>
<SyncDate>20200624</SyncDate>
<SyncTime>11431300</SyncTime>
<ModDate>20200624</ModDate>
<ModTime>11431300</ModTime>
<scaleRange>
<minScale>500000</minScale>
<maxScale>5000</maxScale>
</scaleRange>
<ArcGISProfile>FGDC</ArcGISProfile>
</Esri>
<dataIdInfo>
<envirDesc Sync="TRUE">Microsoft Windows Server 2016 Technical Preview Version 10.0 (Build 14393) ; Esri ArcGIS 12.4.2.19948</envirDesc>
<dataLang>
<languageCode Sync="TRUE" value="eng"/>
<countryCode Sync="TRUE" value="NZL"/>
</dataLang>
<idCitation>
<resTitle Sync="TRUE">AerialPhoto_2014</resTitle>
<presForm>
<PresFormCd Sync="FALSE" value="003"/>
</presForm>
<resAltTitle>BOPLASS 2015 1K Ortho Project - ORTHOS</resAltTitle>
<date>
<createDate>2014-12-03T00:00:00</createDate>
<pubDate>2015-08-05T00:00:00</pubDate>
</date>
<citRespParty>
<rpIndName>Aerial Surveys</rpIndName>
<role>
<RoleCd value="006"/>
</role>
<rpCntInfo>
<cntAddress addressType="both">
<delPoint>Unit A1 8 Saturn Place Albany 0632; PO Box 302 072 North Harbour 0751</delPoint>
<city>North Shore Auckland</city>
<adminArea>Auckland</adminArea>
<postCode>0632</postCode>
<eMailAdd>info@aerialsurveys.co.nz</eMailAdd>
<country>NZ</country>
</cntAddress>
<cntPhone>
<voiceNum tddtty="">+64 09 415 3101</voiceNum>
<faxNum>+64 09 414 0090</faxNum>
</cntPhone>
<cntInstr>www.aerialsurveys.co.nz</cntInstr>
</rpCntInfo>
</citRespParty>
<citRespParty>
<rpIndName>Glen Clarkin</rpIndName>
<rpOrgName>Bay of Plenty Regional Council</rpOrgName>
<rpPosName>Geospatial Team Leader</rpPosName>
<role>
<RoleCd value="002"/>
</role>
<rpCntInfo>
<cntAddress addressType="physical">
<delPoint>87 First Ave.</delPoint>
<city>Tauranga</city>
<adminArea>Bay of Plenty</adminArea>
<postCode>3110</postCode>
<country>NZ</country>
</cntAddress>
<cntPhone>
<voiceNum tddtty="">+64 0800 884 880</voiceNum>
</cntPhone>
</rpCntInfo>
</citRespParty>
</idCitation>
<spatRpType>
<SpatRepTypCd Sync="TRUE" value="002"/>
</spatRpType>
<dataExt>
<geoEle>
<GeoBndBox esriExtentType="search">
<exTypeCode Sync="TRUE">1</exTypeCode>
<westBL Sync="TRUE">175.895224</westBL>
<eastBL Sync="TRUE">177.446120</eastBL>
<northBL Sync="TRUE">-37.341270</northBL>
<southBL Sync="TRUE">-38.087878</southBL>
</GeoBndBox>
</geoEle>
<exDesc>Tauranga, Western Bay of Plenty,
Whakatane and Kawerau Districts totalling approximately 931km2.</exDesc>
<tempEle>
<TempExtent>
<exTemp>
<TM_Instant>
<tmPosition>2014-12-03T00:00:00</tmPosition>
</TM_Instant>
</exTemp>
</TempExtent>
</tempEle>
</dataExt>
<idPurp>This imagery was captured to provide updated aerial photography of the Bay of Plenty Region. This coastal only coverage was flown on 3 &amp; 8 December 2014 and 1...</idPurp>
<idAbs>&lt;DIV STYLE="text-align:Left;"&gt;&lt;DIV&gt;&lt;DIV&gt;&lt;P STYLE="margin:0 0 0 0;"&gt;&lt;SPAN&gt;Aerial photography was captured over the BOPLASS area in the Tauranga, Western Bay of Plenty,&lt;/SPAN&gt;&lt;SPAN /&gt;&lt;SPAN&gt;Whakatane and &lt;/SPAN&gt;&lt;SPAN&gt;Opotiki&lt;/SPAN&gt;&lt;SPAN&gt; Districts totalling approximately 931km&lt;/SPAN&gt;&lt;SPAN STYLE="font-size:8pt"&gt;&lt;SPAN&gt;2&lt;/SPAN&gt;&lt;/SPAN&gt;&lt;SPAN&gt;. The area of capture is located in&lt;/SPAN&gt;&lt;SPAN /&gt;&lt;SPAN&gt;the Bay of Plenty Region of the North Island.&lt;/SPAN&gt;&lt;/P&gt;&lt;P STYLE="margin:0 0 0 0;"&gt;&lt;SPAN /&gt;&lt;/P&gt;&lt;P STYLE="margin:0 0 0 0;"&gt;&lt;SPAN&gt;For a complete metadata synopsis, please see &lt;/SPAN&gt;&lt;A href="Q:\SharedData\AerialPhotography2014-2015\Delivery 2 August 2015 - RGB and RGBI Ortho Imagery\OutPutPgrm2564-BOPLASS2015\BOPLASS-2015_Metadata.pdf"&gt;&lt;SPAN&gt;Q:\SharedData\AerialPhotography2014-2015\Delivery 2 August 2015 - RGB and RGBI Ortho Imagery\OutPutPgrm2564-BOPLASS2015\BOPLASS-2015_Metadata.pdf&lt;/SPAN&gt;&lt;/A&gt;&lt;/P&gt;&lt;P STYLE="margin:0 0 0 0;"&gt;&lt;SPAN /&gt;&lt;/P&gt;&lt;P&gt;&lt;SPAN /&gt;&lt;/P&gt;&lt;/DIV&gt;&lt;/DIV&gt;&lt;/DIV&gt;</idAbs>
<idCredit>Aerial Surveys, Bay of Plenty Regional Council, BOPLASS Ltd.</idCredit>
<searchKeys>
<keyword>Aerial imagery</keyword>
<keyword>coastal</keyword>
<keyword>2014/2015</keyword>
<keyword>RGB</keyword>
<keyword>mosaic raster dataset</keyword>
<keyword>BOPLASS 2015 1K Ortho Project</keyword>
</searchKeys>
<resConst>
<Consts>
<useLimit>&lt;DIV STYLE="text-align:Left;"&gt;&lt;DIV&gt;&lt;DIV&gt;&lt;P /&gt;&lt;P STYLE="text-align:Justify;margin:7 0 7 0;"&gt;&lt;SPAN STYLE="font-style:italic;"&gt;Copyright ©. This copyright work is licensed under the Creative Commons Attribution 3.0 New Zealand Licence. In essence, you are free to copy, distribute and adapt the work, as long as you attribute the work to Bay of Plenty Regional Council and abide by the other licence terms. To view a copy of this licence, visit &lt;/SPAN&gt;&lt;A href="http://creativecommons.org/licenses/by/3.0/nz/"&gt;&lt;SPAN STYLE="font-style:italic;"&gt;&lt;SPAN&gt;http://creativecommons.org/licenses/by/3.0/nz/&lt;/SPAN&gt;&lt;/SPAN&gt;&lt;/A&gt;&lt;SPAN STYLE="font-style:italic;"&gt;. &lt;/SPAN&gt;&lt;/P&gt;&lt;P&gt;&lt;SPAN /&gt;&lt;/P&gt;&lt;/DIV&gt;&lt;/DIV&gt;&lt;/DIV&gt;</useLimit>
</Consts>
</resConst>
<dataChar>
<CharSetCd value="004"/>
</dataChar>
<idStatus>
<ProgCd value="004"/>
</idStatus>
<graphOver>
<bgFileName>\\brcsvfap05\SharedData\AerialPhotography2014-2015\Delivery 2 August 2015 - RGB and RGBI Ortho Imagery\OutPutPgrm2564-BOPLASS2015\tifs-RGB</bgFileName>
<bgFileDesc>Location of the source TIFF files used in creating the mosaic raster dataset</bgFileDesc>
<bgFileType>TIFF</bgFileType>
</graphOver>
<resMaint>
<maintFreq>
<MaintFreqCd value="009"/>
</maintFreq>
</resMaint>
<suppInfo>Original raw tiff files can be located in \\brcsvfap05\SharedData\AerialPhotography2014-2015\Delivery 2 August 2015 - RGB and RGBI Ortho Imagery\OutPutPgrm2564-BOPLASS2015\tifs-RGB. The pdf metadata document is located in \SharedData\AerialPhotography2014-2015\Delivery 2 August 2015 - RGB and RGBI Ortho Imagery\OutPutPgrm2564-BOPLASS2015\Metadata-OutputTemplate_ORTHOS-General</suppInfo>
<tpCat>
<TopicCatCd value="010"/>
</tpCat>
</dataIdInfo>
<mdLang>
<languageCode Sync="TRUE" value="eng"/>
<countryCode Sync="TRUE" value="NZL"/>
</mdLang>
<mdChar>
<CharSetCd Sync="TRUE" value="004"/>
</mdChar>
<refSysInfo>
<RefSystem>
<refSysID>
<identCode Sync="TRUE" code="2193"/>
<idCodeSpace Sync="TRUE">EPSG</idCodeSpace>
<idVersion Sync="TRUE">7.9.4(9.0.0)</idVersion>
</refSysID>
</RefSystem>
</refSysInfo>
<spatRepInfo>
<Georect>
<cellGeo>
<CellGeoCd Sync="TRUE" value="002"/>
</cellGeo>
<numDims Sync="TRUE">2</numDims>
<tranParaAv Sync="TRUE">1</tranParaAv>
<chkPtAv Sync="TRUE">0</chkPtAv>
<cornerPts>
<pos Sync="TRUE">1856319.999968 5780399.999955</pos>
</cornerPts>
<cornerPts>
<pos Sync="TRUE">1856319.999968 5858159.999955</pos>
</cornerPts>
<cornerPts>
<pos Sync="TRUE">1990239.999968 5858159.999955</pos>
</cornerPts>
<cornerPts>
<pos Sync="TRUE">1990239.999968 5780399.999955</pos>
</cornerPts>
<centerPt>
<pos Sync="TRUE">1923279.999968 5819279.999955</pos>
</centerPt>
<axisDimension type="002">
<dimSize Sync="TRUE">1071360</dimSize>
<dimResol>
<value Sync="TRUE" uom="m">0.125000</value>
</dimResol>
</axisDimension>
<axisDimension type="001">
<dimSize Sync="TRUE">622080</dimSize>
<dimResol>
<value Sync="TRUE" uom="m">0.125000</value>
</dimResol>
</axisDimension>
<ptInPixel>
<PixOrientCd Sync="TRUE" value="001"/>
</ptInPixel>
</Georect>
</spatRepInfo>
<contInfo>
<ImgDesc>
<contentTyp>
<ContentTypCd Sync="TRUE" value="001"/>
</contentTyp>
<covDim>
<Band>
<dimDescrp Sync="TRUE">Red</dimDescrp>
<maxVal Sync="TRUE">255.000000</maxVal>
<minVal Sync="TRUE">0.000000</minVal>
<bitsPerVal Sync="TRUE">8</bitsPerVal>
<valUnit>
<UOM gmlID="" type="length">
<unitSymbol>bit</unitSymbol>
</UOM>
</valUnit>
</Band>
<Band>
<dimDescrp Sync="TRUE">Green</dimDescrp>
<maxVal Sync="TRUE">255.000000</maxVal>
<minVal Sync="TRUE">0.000000</minVal>
<bitsPerVal Sync="TRUE">8</bitsPerVal>
<valUnit>
<UOM gmlID="" type="length">
<unitSymbol>bit</unitSymbol>
</UOM>
</valUnit>
</Band>
<Band>
<dimDescrp Sync="TRUE">Blue</dimDescrp>
<maxVal Sync="TRUE">255.000000</maxVal>
<minVal Sync="TRUE">8.000000</minVal>
<bitsPerVal Sync="TRUE">8</bitsPerVal>
<valUnit>
<UOM gmlID="" type="length">
<unitSymbol>bit</unitSymbol>
</UOM>
</valUnit>
</Band>
</covDim>
<attDesc>Natural color 3 band RGB aerial imagery</attDesc>
<trianInd>False</trianInd>
<radCalDatAv>False</radCalDatAv>
<camCalInAv>False</camCalInAv>
<filmDistInAv>False</filmDistInAv>
<lensDistInAv>False</lensDistInAv>
</ImgDesc>
</contInfo>
<mdDateSt Sync="TRUE">20200624</mdDateSt>
<mdHrLv>
<ScopeCd value="005"/>
</mdHrLv>
<mdContact>
<rpIndName>Glen Clarkin</rpIndName>
<rpOrgName>Bay of Plenty Regional Council</rpOrgName>
<rpPosName>Geospatial Team Leader</rpPosName>
<role>
<RoleCd value="002"/>
</role>
<rpCntInfo>
<cntAddress addressType="physical">
<delPoint>87 First Ave.</delPoint>
<city>Tauranga</city>
<adminArea>Bay of Plenty</adminArea>
<postCode>3110</postCode>
<country>NZ</country>
</cntAddress>
<cntPhone>
<voiceNum tddtty="">+64 0800 884 880</voiceNum>
</cntPhone>
</rpCntInfo>
<displayName>Glen Clarkin</displayName>
</mdContact>
<contInfo>
<CovDesc>
<attDesc>Aerial imagery of coastal Bay of Plenty region with coverage area inTauranga, Western Bay of Plenty, Whakatane, and Kawerau District totalling approximately 931 km2.</attDesc>
<contentTyp>
<ContentTypCd value="001"/>
</contentTyp>
</CovDesc>
</contInfo>
<contInfo>
<FetCatDesc>
<compCode>False</compCode>
<incWithDS>False</incWithDS>
<catCitation>
<resTitle>Bay of Plenty coastal aerial imagery 2014</resTitle>
</catCitation>
</FetCatDesc>
</contInfo>
<dqInfo>
<dataLineage>
<statement>Original raw tiff files can be located in \\brcsvfap05\SharedData\AerialPhotography2014-2015\Delivery 2 August 2015 - RGB and RGBI Ortho Imagery\OutPutPgrm2564-BOPLASS2015\tifs-RGB. The pdf metadata document is located in \SharedData\AerialPhotography2014-2015\Delivery 2 August 2015 - RGB and RGBI Ortho Imagery\OutPutPgrm2564-BOPLASS2015\Metadata-OutputTemplate_ORTHOS-General</statement>
</dataLineage>
<dqScope>
<scpLvl>
<ScopeCd value="017"/>
</scpLvl>
</dqScope>
<report dimension="horizontal" type="DQAbsExtPosAcc"/>
</dqInfo>
</metadata>
