<?xml version="1.0" encoding="UTF-8" standalone="no"?>
<metadata xml:lang="en">
<Esri>
<CreaDate>20090217</CreaDate>
<CreaTime>10352800</CreaTime>
<SyncOnce>FALSE</SyncOnce>
<SyncDate>20200228</SyncDate>
<SyncTime>09132100</SyncTime>
<ModDate>20200228</ModDate>
<ModTime>09132100</ModTime>
<MetaID>{43474A87-B7BC-46C4-A30E-177DFA77664B}</MetaID>
<DataProperties>
<itemProps>
<itemName Sync="TRUE">AerialPhoto_2003</itemName>
<imsContentType Sync="TRUE">002</imsContentType>
<nativeExtBox>
<westBL Sync="TRUE">1844666.277639</westBL>
<eastBL Sync="TRUE">2060197.527639</eastBL>
<southBL Sync="TRUE">5673364.256720</southBL>
<northBL Sync="TRUE">5876232.506720</northBL>
<exTypeCode Sync="TRUE">1</exTypeCode>
</nativeExtBox>
<itemLocation>
<linkage Sync="TRUE">file://\\BRCSVGIST14\data\aerial.gdb</linkage>
<protocol Sync="TRUE">Local Area Network</protocol>
</itemLocation>
</itemProps>
<coordRef>
<type Sync="TRUE">Projected</type>
<geogcsn Sync="TRUE">GCS_NZGD_2000</geogcsn>
<csUnits Sync="TRUE">Linear Unit: Meter (1.000000)</csUnits>
<projcsn Sync="TRUE">NZGD_2000_New_Zealand_Transverse_Mercator</projcsn>
<peXml Sync="TRUE">&lt;ProjectedCoordinateSystem xsi:type='typens:ProjectedCoordinateSystem' xmlns:xsi='http://www.w3.org/2001/XMLSchema-instance' xmlns:xs='http://www.w3.org/2001/XMLSchema' xmlns:typens='http://www.esri.com/schemas/ArcGIS/2.4.0'&gt;&lt;WKT&gt;PROJCS[&amp;quot;NZGD_2000_New_Zealand_Transverse_Mercator&amp;quot;,GEOGCS[&amp;quot;GCS_NZGD_2000&amp;quot;,DATUM[&amp;quot;D_NZGD_2000&amp;quot;,SPHEROID[&amp;quot;GRS_1980&amp;quot;,6378137.0,298.257222101]],PRIMEM[&amp;quot;Greenwich&amp;quot;,0.0],UNIT[&amp;quot;Degree&amp;quot;,0.0174532925199433]],PROJECTION[&amp;quot;Transverse_Mercator&amp;quot;],PARAMETER[&amp;quot;False_Easting&amp;quot;,1600000.0],PARAMETER[&amp;quot;False_Northing&amp;quot;,10000000.0],PARAMETER[&amp;quot;Central_Meridian&amp;quot;,173.0],PARAMETER[&amp;quot;Scale_Factor&amp;quot;,0.9996],PARAMETER[&amp;quot;Latitude_Of_Origin&amp;quot;,0.0],UNIT[&amp;quot;Meter&amp;quot;,1.0],AUTHORITY[&amp;quot;EPSG&amp;quot;,2193]]&lt;/WKT&gt;&lt;XOrigin&gt;-4020900&lt;/XOrigin&gt;&lt;YOrigin&gt;1900&lt;/YOrigin&gt;&lt;XYScale&gt;450445547.3910538&lt;/XYScale&gt;&lt;ZOrigin&gt;0&lt;/ZOrigin&gt;&lt;ZScale&gt;100000&lt;/ZScale&gt;&lt;MOrigin&gt;0&lt;/MOrigin&gt;&lt;MScale&gt;100000&lt;/MScale&gt;&lt;XYTolerance&gt;0.001&lt;/XYTolerance&gt;&lt;ZTolerance&gt;2.0000000000000002e-05&lt;/ZTolerance&gt;&lt;MTolerance&gt;2.0000000000000002e-05&lt;/MTolerance&gt;&lt;HighPrecision&gt;true&lt;/HighPrecision&gt;&lt;WKID&gt;2193&lt;/WKID&gt;&lt;LatestWKID&gt;2193&lt;/LatestWKID&gt;&lt;/ProjectedCoordinateSystem&gt;</peXml>
</coordRef>
<lineage>
<Process Date="20120607" Time="225113" ToolSource="C:\Program Files\ArcGIS\Desktop10.0\ArcToolbox\Toolboxes\Data Management Tools.tbx\CopyRaster">CopyRaster "Database Connections\whkgistest_raster_bop_viewer.sde\GIS_RASTER.BOP.RDAM2003" "Database Connections\BRCSVSQL02_RASTER.sde\raster.DBO.RDAM2003" # # # NONE NONE #</Process>
<Process Date="20191203" Time="165225" ToolSource="c:\program files\arcgis\pro\Resources\ArcToolbox\toolboxes\Data Management Tools.tbx\Copy">Copy "D:\projects\temp\brcsvsql02_raster_admin.sde\RDAM2003 " D:\data\aerial.gdb\RDAM2003 RasterDataset "raster.DBO.RDAM2003 RasterDataset RDAM2003 #"</Process>
<Process Date="20191204" Time="084013" ToolSource="c:\program files\arcgis\pro\Resources\ArcToolbox\toolboxes\Data Management Tools.tbx\Rename">Rename D:\data\aerial.gdb\RDAM2003 D:\data\aerial.gdb\AerialPhoto_2003 RasterDataset</Process>
</lineage>
</DataProperties>
</Esri>
<idinfo>
<native Sync="TRUE">Microsoft Windows XP Version 5.1 (Build 2600) Service Pack 3; ESRI ArcCatalog 9.2.2.1350</native>
<descript>
<langdata Sync="TRUE">en</langdata>
<abstract>ALL INFORMATION HERE IS JUST A TEST!!!!!!!
1943 Black and White aerial photography images - at 0.25m resolution (Photos Taken on 9/02/1943)</abstract>
<purpose>Scanned by NZAM for GIS at request of City Development (TCC) division. For an historic perspective of the city.</purpose>
</descript>
<citation>
<citeinfo>
<origin>REQUIRED: The name of an organization or individual that developed the data set.</origin>
<pubdate>REQUIRED: The date when the data set is published or otherwise made available for release.</pubdate>
<title Sync="TRUE">gis_raster.BOP.RDAM2003</title>
<ftname Sync="TRUE">gis_raster.BOP.RDAM2003</ftname>
<geoform Sync="TRUE">SDE raster digital data</geoform>
<onlink Sync="TRUE">Server=whkgistest; Service=5152; Database=gis_raster; User=bop; Version=sde.DEFAULT</onlink>
</citeinfo>
</citation>
<timeperd>
<current>REQUIRED: The basis on which the time period of content information is determined.</current>
<timeinfo>
<sngdate>
<caldate>REQUIRED: The year (and optionally month, or month and day) for which the data set corresponds to the ground.</caldate>
</sngdate>
</timeinfo>
</timeperd>
<status>
<progress>REQUIRED: The state of the data set.</progress>
<update>REQUIRED: The frequency with which changes and additions are made to the data set after the initial data set is completed.</update>
</status>
<spdom>
<bounding>
<westbc Sync="TRUE">175.757658</westbc>
<eastbc Sync="TRUE">178.310247</eastbc>
<northbc Sync="TRUE">-37.147245</northbc>
<southbc Sync="TRUE">-39.056243</southbc>
</bounding>
<lboundng>
<leftbc Sync="TRUE">2754999.750000</leftbc>
<rightbc Sync="TRUE">2970000.000000</rightbc>
<bottombc Sync="TRUE">6234999.250000</bottombc>
<topbc Sync="TRUE">6437500.000000</topbc>
</lboundng>
</spdom>
<keywords>
<theme>
<themekt>REQUIRED: Reference to a formally registered thesaurus or a similar authoritative source of theme keywords.</themekt>
<themekey>REQUIRED: Common-use word or phrase used to describe the subject of the data set.</themekey>
</theme>
</keywords>
<accconst>These images are Crown Copyright - however LINZ has abolished the requirement for permission requests for duplication or reproduction of these images </accconst>
<useconst>none</useconst>
<natvform Sync="TRUE">SDE Raster Dataset</natvform>
<ptcontac>
<cntinfo>
<cntpos>GIS Team Leader</cntpos>
<cntaddr>
<addrtype>mailing address</addrtype>
<address>Private Bag 12022</address>
<city>Tauranga </city>
<state>Bay of Plenty</state>
<country>New Zealand </country>
</cntaddr>
<cntvoice>+64 7 577 7000 </cntvoice>
<cntfax>+64 7 577 7193 </cntfax>
<cntemail>maps@tauranga.govt.nz</cntemail>
<hours>8:00am - 5:30pm </hours>
<cntinst>The telephone number is for the Tauranga City Council Call Centre. Ask for the GIS Team Leader. Also try our website: http://www.tauranga.govt.nz</cntinst>
<cntorgp>
<cntorg>Tauranga City Council</cntorg>
</cntorgp>
</cntinfo>
</ptcontac>
<datacred>New Zealand Aerial Mapping, service@nzam.com </datacred>
</idinfo>
<dataIdInfo>
<envirDesc Sync="TRUE">Microsoft Windows Server 2016 Technical Preview Version 10.0 (Build 14393) ; Esri ArcGIS 12.4.2.19948</envirDesc>
<dataLang>
<languageCode Sync="TRUE" value="eng"/>
<countryCode Sync="TRUE" value="NZL"/>
</dataLang>
<idCitation>
<resTitle Sync="TRUE">AerialPhoto_2003</resTitle>
<presForm>
<PresFormCd Sync="TRUE" value="011"/>
</presForm>
</idCitation>
<spatRpType>
<SpatRepTypCd Sync="TRUE" value="002"/>
</spatRpType>
<dataExt>
<geoEle>
<GeoBndBox esriExtentType="native">
<westBL Sync="TRUE">2754999.75</westBL>
<eastBL Sync="TRUE">2970000</eastBL>
<northBL Sync="TRUE">6437500</northBL>
<southBL Sync="TRUE">6234999.25</southBL>
<exTypeCode Sync="TRUE">1</exTypeCode>
</GeoBndBox>
</geoEle>
</dataExt>
<geoBox esriExtentType="decdegrees">
<westBL Sync="TRUE">175.757658</westBL>
<eastBL Sync="TRUE">178.310247</eastBL>
<northBL Sync="TRUE">-37.147245</northBL>
<southBL Sync="TRUE">-39.056243</southBL>
<exTypeCode Sync="TRUE">1</exTypeCode>
</geoBox>
<dataExt>
<geoEle>
<GeoBndBox esriExtentType="search">
<exTypeCode Sync="TRUE">1</exTypeCode>
<westBL Sync="TRUE">175.757780</westBL>
<eastBL Sync="TRUE">178.310557</eastBL>
<northBL Sync="TRUE">-37.147050</northBL>
<southBL Sync="TRUE">-39.054553</southBL>
</GeoBndBox>
</geoEle>
</dataExt>
<idAbs/>
<searchKeys>
<keyword>aerial</keyword>
<keyword>2003</keyword>
</searchKeys>
<idPurp>Aerial photo 2003</idPurp>
<idCredit/>
<resConst>
<Consts>
<useLimit/>
</Consts>
</resConst>
</dataIdInfo>
<metainfo>
<langmeta Sync="TRUE">en</langmeta>
<metstdn Sync="TRUE">FGDC Content Standards for Digital Geospatial Metadata</metstdn>
<metstdv Sync="TRUE">FGDC-STD-001-1998</metstdv>
<mettc Sync="TRUE">local time</mettc>
<metextns>
<metprof>Email regarding likely accuracy (TCC Internal Access only)</metprof>
<onlink>http://file.tauranga.govt.nz/1695382 </onlink>
</metextns>
<metc>
<cntinfo>
<cntorgp>
<cntper>REQUIRED: The person responsible for the metadata information.</cntper>
<cntorg>REQUIRED: The organization responsible for the metadata information.</cntorg>
</cntorgp>
<cntaddr>
<addrtype>REQUIRED: The mailing and/or physical address for the organization or individual.</addrtype>
<city>REQUIRED: The city of the address.</city>
<state>REQUIRED: The state or province of the address.</state>
<postal>REQUIRED: The ZIP or other postal code of the address.</postal>
</cntaddr>
<cntvoice>REQUIRED: The telephone number by which individuals can speak to the organization or individual.</cntvoice>
</cntinfo>
</metc>
<metd Sync="TRUE">20090720</metd>
<metextns>
<onlink>http://file.tauranga.govt.nz/1726262 </onlink>
<metprof>Email regarding likely accuracy (TCC Internal Access only)</metprof>
</metextns>
<metextns>
<onlink>http://file.tauranga.govt.nz/1761939 </onlink>
<metprof>Copyright info (TCC Internal Access only)</metprof>
</metextns>
<metextns>
<onlink> http://file.tauranga.govt.nz/1747160 </onlink>
<metprof>Camera Lens information (TCC Internal Access Only)</metprof>
</metextns>
</metainfo>
<mdLang>
<languageCode Sync="TRUE" value="eng"/>
<countryCode Sync="TRUE" value="NZL"/>
</mdLang>
<mdStanName Sync="TRUE">ISO 19115 Geographic Information - Metadata</mdStanName>
<mdStanVer Sync="TRUE">DIS_ESRI1.0</mdStanVer>
<mdChar>
<CharSetCd Sync="TRUE" value="004"/>
</mdChar>
<mdHrLv>
<ScopeCd Sync="TRUE" value="005"/>
</mdHrLv>
<mdHrLvName Sync="TRUE">dataset</mdHrLvName>
<distinfo>
<resdesc Sync="TRUE">Downloadable Data</resdesc>
</distinfo>
<distInfo>
<distributor>
<distorTran>
<onLineSrc>
<orDesc Sync="TRUE">002</orDesc>
<linkage Sync="TRUE">Server=whkgistest; Service=5152; Database=gis_raster; User=bop; Version=sde.DEFAULT</linkage>
<protocol Sync="TRUE">ArcSDE Connection</protocol>
</onLineSrc>
</distorTran>
<distorFormat>
<formatName Sync="TRUE">SDE Raster Dataset</formatName>
</distorFormat>
</distributor>
<distFormat>
<formatName Sync="TRUE">File Geodatabase Raster Dataset</formatName>
</distFormat>
</distInfo>
<spdoinfo>
<direct Sync="TRUE">Raster</direct>
<rastinfo>
<rasttype Sync="TRUE">Pixel</rasttype>
<rowcount Sync="TRUE">270491</rowcount>
<colcount Sync="TRUE">287375</colcount>
<rastxsz Sync="TRUE">0.750000</rastxsz>
<rastysz Sync="TRUE">0.750000</rastysz>
<rastbpp Sync="TRUE">8</rastbpp>
<vrtcount Sync="TRUE">1</vrtcount>
<rastorig Sync="TRUE">Upper Left</rastorig>
<rastcmap Sync="TRUE">FALSE</rastcmap>
<rastcomp Sync="TRUE">LZ77</rastcomp>
<rastband Sync="TRUE">3</rastband>
<rastdtyp Sync="TRUE">pixel codes</rastdtyp>
<rastifor Sync="TRUE">FGDBR</rastifor>
<rastplyr Sync="TRUE">TRUE</rastplyr>
</rastinfo>
</spdoinfo>
<spref>
<horizsys>
<cordsysn>
<geogcsn Sync="TRUE">GCS_New_Zealand_1949</geogcsn>
<projcsn Sync="TRUE">GD_1949_New_Zealand_Map_Grid</projcsn>
</cordsysn>
<planar>
<planci>
<plance Sync="TRUE">row and column</plance>
<plandu Sync="TRUE">meters</plandu>
<coordrep>
<absres Sync="TRUE">0.750000</absres>
<ordres Sync="TRUE">0.750000</ordres>
</coordrep>
</planci>
</planar>
<geodetic>
<horizdn Sync="TRUE">D_New_Zealand_1949</horizdn>
<ellips Sync="TRUE">International_1924</ellips>
<semiaxis Sync="TRUE">6378388.000000</semiaxis>
<denflat Sync="TRUE">297.000000</denflat>
</geodetic>
</horizsys>
<vertdef>
<altsys>
<altenc Sync="TRUE">Explicit elevation coordinate included with horizontal coordinates</altenc>
<altres Sync="TRUE">1.000000</altres>
</altsys>
</vertdef>
</spref>
<refSysInfo>
<RefSystem>
<refSysID>
<identCode Sync="TRUE" code="2193" value="2193">GD_1949_New_Zealand_Map_Grid</identCode>
<idCodeSpace Sync="TRUE">EPSG</idCodeSpace>
<idVersion Sync="TRUE">7.9.4(9.0.0)</idVersion>
</refSysID>
</RefSystem>
</refSysInfo>
<mdDateSt Sync="TRUE">20200228</mdDateSt>
<dataqual>
<attracc>
<attraccr>There are multiple scratches, water marks and dust that were obviously on the negatives prior to scanning - the images are not in the best condition. The grain of the negatives is visible and when looking at individual buildings, blur is evident.</attraccr>
</attracc>
<logic>Appropriate to view at a scale of approximate 1:2000. Camera type was EAGLE camera # 106... Focal length = 209.70mm.</logic>
<complete>These images do not cover the entire area of TCC. They only cover the CBD and western urban areas of Tauranga.</complete>
<posacc>
<horizpa>
<horizpar>6 offsets were compared between the 1943 images and TCC 2003 aerial photos. These ranged in value from 2 to 8m difference, but this is provisional as it was difficult to make a link between these two datasets due to the low quality of the 1943 images and changes over the 60years. The average offset was slightly less than 5m.</horizpar>
</horizpa>
</posacc>
<lineage>
<procstep>
<procdesc Sync="TRUE">Metadata imported.</procdesc>
<srcused Sync="TRUE">D:\Temp\GIS_RASTER.BOP.xml</srcused>
<date Sync="TRUE">20090217</date>
<time Sync="TRUE">10352800</time>
</procstep>
</lineage>
</dataqual>
</metadata>
